BEGIN:VCALENDAR
VERSION:2.0
PRODID:-//ChamberMaster//Event Calendar 2.0//EN
METHOD:PUBLISH
X-PUBLISHED-TTL:P3D
REFRESH-INTERVAL:P3D
CALSCALE:GREGORIAN
BEGIN:VEVENT
DTSTART:20180817T170000Z
DTEND:20180818T000000Z
X-MICROSOFT-CDO-ALLDAYEVENT:FALSE
SUMMARY:"BIG TOP SCRAMBLE!" - 14th Annual Chamber Golf Scramble
DESCRIPTION:Come One\, Come All to the Greatest Show on Earth -- 18 holes of fun on the greens\, games\, prizes and extreme networking.\n\nWe've called the Ring Master and are set up for the "BIG TOP SCRAMBLE!" at Pebble Lake Golf Club on Friday\, August 17th for the 14th Annual Fergus Falls Chamber Golf Scramble. Golfers have given this tournament a "5-Star Rating" for the fun\, games and top-notch prizes. This event is a near sell-out but there are 2 LAST MINUTE TEAM OPENINGS\, so there's still time to join the fun and "get your ticket." The Chamber is  "calling all Clowns and Lion Tamers" and we want YOU! Step right up for a "Ringside Seat" and defy the high-wire act when your team shows off their "magic" golf skills and tame the tigers before the clowns appear. Call the ticket hotline: 218-736-6951 to get tickets for the "BIG TOP SCRAMBLE!" Win a 2018 Chevy Equinox from Minnesota Motor Co. with a Hole-in-One on #8. All golfers will receive a $100 golf clothing gift card. Golfers\, volunteers & sponsors who dress up with for our Circus theme will have a chance to win $100 Fergus Bucks! \n\nGrand Prizes include: 55" LG TV from Pemberton Law and Fergus Home & Hardware\n\nClick Here for Rules and Course Map\n\n\n\nTee Box & Hole Contest Sponsors:\n\n	Vector Windows & Shooting Star Casino\n	Pebble Lake Golf Club & Quality Toyota\n	Marco   BBQ & beverage station\n	Bank of the West & Frontier Marine & Powersports\n	Fergus Falls Chamber   Pro Shot\, Team Photos by Jeremy Petrick Photography & Free Water & Beer\n	Northern Aire Lanes\n	PRO Resources**\n	Minnesota Motor Co.   Hole in One Contest\n	Pemberton Law & Service Food\n	AmericInn Lodge & Suites & LB Homes\n	Park Region Telephone - OT Telcom & InVision Eye Care\n	Cline Jensen PA\n	Moore Engineering\n	Cooper's Office Supply**\n	Dorn & Co.\n	Victor Lundeen Co. & Ugstad Plumbing & Heating\n	The Daily Journal\n	Unlimited Auto Glass & Country Inn and Suites\n\n **Cannon Ball Shot" Bonus\n\n\n\nTEAM LINEUP:\n\n1A     Northstar Dock & Lift LLC\n\n1B     Minnesota Motor Co\n\n2A     Service Food\n\n2B     Security State Bank\n\n3A     Lake Region Healthcare\n\n3B     American National Bank of MN\n\n4A     Visit Fergus Falls\n\n4B     US Bank\n\n5A     Otter Tail Power Co.\n\n5B     Bremer Bank\n\n6A     Otter Tail Telcom/Park Region Telephone\n\n6B     West Central Initiative\n\n7A     Marco\n\n7B     Bell Bank\n\n8A     Knute Nelson Home Care & Hospice\n\n8B     Leighton Broadcasting\n\n9A     American Federal Bank\n\n9B     Vector Windows \n\n10A   Unlimited Auto Glass\n\n10B   Gate City Bank\n\n11A   Liberty Business Systems\n\n11B   Cline Jensen PA\n\n12A   Moore Engineering\n\n12B   Country Inn & Suites/Bigwood/Z103\n\n13A   AmericInn Lodge & Suites\n\n13B   OPEN\n\n14A   Wells Fargo\n\n14B   88 Graphics\n\n15A   Docu Shred\n\n16A   Quality Toyota\n\n16B   Northern Contours\n\n17A   OPEN\n\n17B   Victor Lundeen Company\n\n18A   Nelson Auto Center\n\n18B   Fergus Falls Liquor Store
X-ALT-DESC;FMTTYPE=text/html:<span style="font-size: 12px\;"><span style="font-family: verdana\;"><strong>Come One\, Come All to the Greatest Show on Earth --&nbsp\;</strong>18 holes of fun on the greens\, games\, prizes and extreme networking.</span></span><br />\n<span style="font-size: 12px\;"><span style="font-family: verdana\;">We&#39\;ve called the Ring Master and are set up for the&nbsp\;<strong>&quot\;BIG TOP SCRAMBLE!&quot\;</strong> at Pebble Lake Golf Club on Friday\, August 17<sup>th</sup> for the 14<sup>th</sup> Annual Fergus Falls Chamber Golf Scramble. Golfers have given this tournament a &quot\;5-Star Rating&quot\; for the fun\, games and top-notch prizes. This event is a near sell-out but there are <u>2 LAST MINUTE TEAM OPENINGS</u>\, so there&#39\;s still time to join the fun and &quot\;get your ticket.&quot\; The Chamber is &nbsp\;&quot\;calling all Clowns and Lion Tamers&quot\; and we want YOU! Step right up for a &quot\;Ringside Seat&quot\; and defy the high-wire act when your team shows off their &quot\;magic&quot\; golf skills and tame the tigers before the clowns appear. Call the ticket hotline: 218-736-6951 to get tickets for the &quot\;BIG TOP SCRAMBLE!&quot\;&nbsp\;</span></span><strong style="font-family: verdana\; font-size: 12px\;">Win a 2018 Chevy Equinox from Minnesota Motor Co. with a Hole-in-One on #8. All golfers will receive a $100 golf clothing gift card.&nbsp\;</strong><strong style="color: rgb(255\, 0\, 0)\; font-family: verdana\; font-size: 12px\;">Golfers\, volunteers &amp\; sponsors who dress up with for our Circus theme will have a chance to win $100 Fergus Bucks!&nbsp\;</strong><br />\n<strong style="font-family: verdana\; font-size: 12px\;"><span style="font-size: 14px\;">Grand Prizes include: 55&quot\; LG TV from Pemberton Law and Fergus Home &amp\; Hardware</span></strong><br />\n<span style="font-size: 12px\;"><span style="font-family: verdana\;"><span style="font-size: 16px\;"><strong><a href="https://chambermaster.blob.core.windows.net/userfiles/UserFiles/chambers/314/File/GolfScrambleRulesCourseMap2018.pdf">Click Here for Rules and Course Map</a></strong></span></span></span><br />\n<br />\n<span style="font-size:11px\;"><span style="font-family:verdana\;"><strong>Tee Box &amp\; Hole Contest Sponsors:</strong></span></span>\n<ol>\n	<li><span style="font-size:11px\;"><span style="font-family:verdana\;"><strong>Vector Windows </strong>&amp\; Shooting Star Casino</span></span></li>\n	<li><span style="font-size:11px\;"><span style="font-family:verdana\;">Pebble Lake Golf Club &amp\; Quality Toyota</span></span></li>\n	<li><span style="font-size:11px\;"><span style="font-family:verdana\;"><strong>Marco</strong> &ndash\; BBQ &amp\; beverage station</span></span></li>\n	<li><span style="font-size:11px\;"><span style="font-family:verdana\;">Bank of the West &amp\; Frontier Marine &amp\; Powersports</span></span></li>\n	<li><span style="font-size:11px\;"><span style="font-family:verdana\;"><strong>Fergus Falls Chamber</strong> &ndash\; Pro Shot\, Team Photos by Jeremy Petrick Photography&nbsp\;&amp\; Free Water &amp\; Beer</span></span></li>\n	<li><span style="font-size:11px\;"><span style="font-family:verdana\;">Northern Aire Lanes</span></span></li>\n	<li><span style="font-size:11px\;"><span style="font-family:verdana\;">PRO Resources**</span></span></li>\n	<li><span style="font-size:11px\;"><span style="font-family:verdana\;"><strong>Minnesota Motor Co.</strong> &ndash\; Hole in One Contest</span></span></li>\n	<li><span style="font-size:11px\;"><span style="font-family:verdana\;">Pemberton Law &amp\; Service Food</span></span></li>\n	<li><span style="font-size:11px\;"><span style="font-family:verdana\;">AmericInn Lodge &amp\; Suites &amp\; LB Homes</span></span></li>\n	<li><span style="font-size:11px\;"><span style="font-family:verdana\;">Park Region Telephone - OT Telcom &amp\; InVision Eye Care</span></span></li>\n	<li><span style="font-size:11px\;"><span style="font-family:verdana\;">Cline Jensen PA</span></span></li>\n	<li><span style="font-size:11px\;"><span style="font-family:verdana\;"><strong>Moore Engineering</strong></span></span></li>\n	<li><span style="font-size:11px\;"><span style="font-family:verdana\;">Cooper&rsquo\;s Office Supply**</span></span></li>\n	<li><span style="font-size:11px\;"><span style="font-family:verdana\;">Dorn &amp\; Co.</span></span></li>\n	<li><span style="font-size:11px\;"><span style="font-family:verdana\;">Victor Lundeen Co. &amp\; Ugstad Plumbing &amp\; Heating</span></span></li>\n	<li><span style="font-size:11px\;"><span style="font-family:verdana\;">The Daily Journal</span></span></li>\n	<li><span style="font-size:11px\;"><span style="font-family:verdana\;">Unlimited Auto Glass &amp\; Country Inn and Suites</span></span></li>\n</ol>\n<span style="font-size:11px\;"><span style="font-family:verdana\;">&#8203\;</span></span><span style="font-size:11px\;"><span style="font-family:verdana\;"><span style="font-size:11px\;"><span style="font-family:verdana\;">**Cannon Ball Shot&quot\; Bonus</span></span></span></span><br />\n<br />\n<span style="font-size:11px\;"><span style="font-family:verdana\;"><strong>TEAM LINEUP:</strong><br />\n<strong>1A</strong>&nbsp\;&nbsp\;&nbsp\;&nbsp\; Northstar Dock &amp\; Lift LLC<br />\n<strong>1B</strong>&nbsp\;&nbsp\;&nbsp\;&nbsp\; <strong><span style="color:blue\;">Minnesota Motor Co</span></strong><br />\n<strong>2A</strong>&nbsp\;&nbsp\;&nbsp\;&nbsp\; <strong>Service Food</strong><br />\n<strong>2B</strong>&nbsp\;&nbsp\;&nbsp\;&nbsp\; Security State Bank<br />\n<strong>3A</strong>&nbsp\;&nbsp\;&nbsp\;&nbsp\; Lake Region Healthcare<br />\n<strong>3B</strong>&nbsp\;&nbsp\;&nbsp\;&nbsp\; American National Bank of MN<br />\n<strong>4A</strong>&nbsp\;&nbsp\;&nbsp\;&nbsp\; Visit Fergus Falls<br />\n<strong>4B</strong>&nbsp\;&nbsp\;&nbsp\;&nbsp\; US Bank<br />\n<strong>5A</strong>&nbsp\;&nbsp\;&nbsp\;&nbsp\; Otter Tail Power Co.<br />\n<strong>5B</strong>&nbsp\;&nbsp\;&nbsp\;&nbsp\; Bremer Bank<br />\n<strong>6A</strong>&nbsp\;&nbsp\;&nbsp\;&nbsp\; Otter Tail Telcom/Park Region Telephone<br />\n<strong>6B</strong>&nbsp\;&nbsp\;&nbsp\;&nbsp\; West Central Initiative<br />\n<strong>7A</strong>&nbsp\;&nbsp\;&nbsp\;&nbsp\; <strong>Marco</strong><br />\n<strong>7B</strong>&nbsp\;&nbsp\;&nbsp\;&nbsp\; Bell Bank<br />\n<strong>8A</strong>&nbsp\;&nbsp\;&nbsp\;&nbsp\; Knute Nelson Home Care &amp\; Hospice<br />\n<strong>8B</strong>&nbsp\;&nbsp\;&nbsp\;&nbsp\; Leighton Broadcasting<br />\n<strong>9A</strong>&nbsp\;&nbsp\;&nbsp\;&nbsp\; American Federal Bank<br />\n<strong>9B</strong>&nbsp\;&nbsp\;&nbsp\;&nbsp\; <strong>Vector Windows </strong><br />\n<strong>10A</strong>&nbsp\;&nbsp\; Unlimited Auto Glass<br />\n<strong>10B</strong>&nbsp\;&nbsp\; Gate City Bank<br />\n<strong>11A</strong>&nbsp\;&nbsp\; Liberty Business Systems<br />\n<strong>11B</strong>&nbsp\;&nbsp\; Cline Jensen PA<br />\n<strong>12A</strong>&nbsp\;&nbsp\; <strong>Moore Engineering</strong><br />\n<strong>12B</strong>&nbsp\;&nbsp\; Country Inn &amp\; Suites/Bigwood/Z103<br />\n<strong>13A</strong>&nbsp\;&nbsp\; AmericInn Lodge &amp\; Suites<br />\n<strong>13B</strong>&nbsp\;&nbsp\; OPEN<br />\n<strong>14A</strong>&nbsp\;&nbsp\; Wells Fargo<br />\n<strong>14B</strong>&nbsp\;&nbsp\; 88 Graphics<br />\n<strong>15A</strong>&nbsp\;&nbsp\; Docu Shred<br />\n<strong>16A</strong>&nbsp\;&nbsp\; <strong>Quality Toyota</strong><br />\n<strong>16B</strong>&nbsp\;&nbsp\; Northern Contours<br />\n<strong>17A</strong>&nbsp\;&nbsp\; OPEN<br />\n<strong>17B&nbsp\;&nbsp\; </strong>Victor Lundeen Company<br />\n<strong>18A</strong>&nbsp\;&nbsp\; Nelson Auto Center<br />\n<strong>18B</strong>&nbsp\;&nbsp\; Fergus Falls Liquor Store </span></span>
LOCATION:Pebble Lake Golf Course 1918 Pebble Lake Golf Course Drive Fergus Falls\, MN 56537
UID:e.314.48922
SEQUENCE:3
DTSTAMP:20260423T194244Z
URL:https://business.fergusfalls.com/events/details/big-top-scramble-14th-annual-chamber-golf-scramble-48922
END:VEVENT

END:VCALENDAR
