BEGIN:VCALENDAR
VERSION:2.0
PRODID:-//ChamberMaster//Event Calendar 2.0//EN
METHOD:PUBLISH
X-PUBLISHED-TTL:P3D
REFRESH-INTERVAL:P3D
CALSCALE:GREGORIAN
BEGIN:VEVENT
DTSTART:20191026T180000Z
DTEND:20191026T210000Z
X-MICROSOFT-CDO-ALLDAYEVENT:FALSE
SUMMARY:Bigwood Event Center Fall Wedding Show
DESCRIPTION:We will be showcasing local vendors\, samples of wedding entrees and the ball room will be set so you can see what your reception would look like.\n\nCome join us!!
X-ALT-DESC;FMTTYPE=text/html:<div class="_63ew" data-testid="event-permalink-details"><span>We will be showcasing local vendors\, samples of wedding entrees and the ball room will be set so you can see what your reception would look like.<br />\nCome join us!!</span></div>\n
LOCATION:Country Inn & Suites by Radisson\, Fergus Falls\, MN 925 Western Avenue\, Fergus Falls\, Minnesota 56537
UID:e.314.54571
SEQUENCE:3
DTSTAMP:20260422T222203Z
URL:https://business.fergusfalls.com/events/details/bigwood-event-center-fall-wedding-show-54571
END:VEVENT

END:VCALENDAR
