BEGIN:VCALENDAR
VERSION:2.0
PRODID:-//ChamberMaster//Event Calendar 2.0//EN
METHOD:PUBLISH
X-PUBLISHED-TTL:P3D
REFRESH-INTERVAL:P3D
CALSCALE:GREGORIAN
BEGIN:VEVENT
DTSTART:20200407T233000Z
DTEND:20200408T020000Z
X-MICROSOFT-CDO-ALLDAYEVENT:FALSE
SUMMARY:Postponed until 2021. Bigwood Lecture - Karin Harjo\, Assistant Coach with the World Cup Women's Alpine Team for the United States Ski Team\, to be speaker at 2020 Bigwood Lecture
DESCRIPTION:Postponed until April 2021. Exact date to. E determined.\n\n\n\nKarin Harjo\, Assistant Coach with the World Cup Women's Alpine Team for the United States Ski Team\, to be speaker at 2020 Bigwood Lecture\n\nKarin Harjo is an Assistant Coach with the World Cup Women's Alpine Team for the United States Ski Team. Having coached 20 years in skiing\, Karin has spent the last 8 years with the U.S. National Team and coached for Team USA at the 2018 PyeongChang Olympics in South Korea. As a former Lady Spartan\, Karin credits much of her passion for coaching to Coach Ann Williams and the time spent playing basketball at FFCC (now M State). From that experience and others\, Karin believes that being a coach is about caring for the people you are leading and helping them to become their best. With a degree in Cell & Molecular Biology\, Karin's path from her days at FFCC to becoming the first female to coach fulltime at the World Cup Level for the United States Ski Team has been anything but conventional.\n\nThe Bigwood Lecture is April 7\, 2020 in Legacy Hall of the Fergus Falls campus of M Sate. Doors open at 6:30 p.m. with the Lecture beginning at 7:00 p.m. It is free for all to attend and we hope you are able join us.\n\nFunded in part through an endowment by Otter Tail Power Company in 1991\, the Lecture honors the late Bob Bigwood\, who served as Otter Tail Power president and chairman of the board. Bigwood's leadership in civic affairs\, at Otter Tail Power and at M State Fergus Falls campus as a founder of both the College and Fergus Area College Foundation sets the standard for the Lecture's continuing recognition of engaged leaders and citizen participation.
X-ALT-DESC;FMTTYPE=text/html:<h2><span style="color: rgb(255\, 0\, 0)\;">Postponed until April 2021. Exact date to. E determined.</span></h2>\n\n<h2><br />\n<strong><span style="font-size: 20px\;"><span style="font-family: calibri\,sans-serif\;">Karin Harjo\, Assistant Coach with the World Cup Women&#39\;s Alpine Team for the United States Ski Team\, to be speaker at 2020 Bigwood Lecture</span></span></strong></h2>\n\n<p>Karin Harjo is an Assistant Coach with the World Cup Women&#39\;s Alpine Team for the United States Ski Team. Having coached 20 years in skiing\, Karin has spent the last 8 years with the U.S. National Team and coached for Team USA at the 2018 PyeongChang Olympics in South Korea. As a former Lady Spartan\, Karin credits much of her passion for coaching to Coach Ann Williams and the time spent playing basketball at FFCC (now M State). From that experience and others\, Karin believes that being a coach is about caring for the people you are leading and helping them to become their best. With a degree in Cell &amp\; Molecular Biology\, Karin&#39\;s path from her days at FFCC to becoming the first female to coach fulltime at the World Cup Level for the United States Ski Team has been anything but conventional.</p>\n\n<p>The Bigwood Lecture is April 7\, 2020 in Legacy Hall of the Fergus Falls campus of M Sate. Doors open at 6:30 p.m. with the Lecture beginning at 7:00 p.m. It is free for all to attend and we hope you are able join us.</p>\n\n<p>Funded in part through an endowment by Otter Tail Power Company in 1991\, the Lecture honors the late Bob Bigwood\, who served as Otter Tail Power president and chairman of the board. Bigwood&#39\;s leadership in civic affairs\, at Otter Tail Power and at M State&nbsp\;Fergus Falls campus as a founder of both the College and Fergus Area College Foundation sets the standard for the Lecture&#39\;s continuing recognition of engaged leaders and citizen participation.</p>\n
LOCATION:Legacy Hall\, M State Fergus Falls campus\, 1414 College Way\, Fergus Falls\, MN
UID:e.314.53869
SEQUENCE:3
DTSTAMP:20260422T113126Z
URL:https://business.fergusfalls.com/events/details/bigwood-lecture-karin-harjo-assistant-coach-with-the-world-cup-women-s-alpine-team-for-the-united-states-ski-team-to-be-speaker-at-2020-bigwood-lecture-53869
END:VEVENT

END:VCALENDAR
