BEGIN:VCALENDAR
VERSION:2.0
PRODID:-//ChamberMaster//Event Calendar 2.0//EN
METHOD:PUBLISH
X-PUBLISHED-TTL:P3D
REFRESH-INTERVAL:P3D
CALSCALE:GREGORIAN
BEGIN:VEVENT
DTSTART:20190507T233000Z
DTEND:20190508T020000Z
X-MICROSOFT-CDO-ALLDAYEVENT:FALSE
SUMMARY:Bigwood Lecture - LA Lakers Assistant Coach and Director of Basketball Strategy Clay Moser
DESCRIPTION:LA Lakers Assistant Coach and Director of Basketball Strategy Clay Moser is the speaker at the 2019 Bigwood Lecture\n\n"From the basketball courts of rural Minnesota to the bright lights of the Los Angeles Staples Center\, Fergus Falls native (and M State alumnus/coach) Clay Moser's journey to the National Basketball Association has been a rocky\, but rewarding trip."                              The Daily Journal\n\nThe Bigwood Lecture is May 7\, 2019 in Legacy Hall of the Fergus Falls campus of M Sate. Doors open at 6:30 p.m. with the Lecture beginning at 7:00 p.m. It is free for all to attend and we hope you are able join us.\n\nFunded in part through an endowment by Otter Tail Power Company in 1991\, the Lecture honors the late Bob Bigwood\, who served as Otter Tail Power president and chairman of the board. Bigwood's leadership in civic affairs\, at Otter Tail Power and at M State   Fergus Falls campus as a founder of both the College and Fergus Area College Foundation sets the standard for the Lecture's continuing recognition of engaged leaders and citizen participation.
X-ALT-DESC;FMTTYPE=text/html:<h2><strong>LA Lakers Assistant Coach and Director of Basketball Strategy Clay Moser is the speaker at the 2019 Bigwood Lecture</strong></h2>\n\n<p>&ldquo\;From the basketball courts of rural Minnesota to the bright lights of the Los Angeles Staples Center\, Fergus Falls native (and M State alumnus/coach) Clay Moser&rsquo\;s journey to the National Basketball Association has been a rocky\, but rewarding trip.&rdquo\;&nbsp\; &nbsp\; &nbsp\; &nbsp\; &nbsp\; &nbsp\; &nbsp\; &nbsp\; &nbsp\; &nbsp\; &nbsp\; &nbsp\; &nbsp\; &nbsp\; &mdash\; The Daily Journal</p>\n\n<p>The Bigwood Lecture is May 7\, 2019 in Legacy Hall of the Fergus Falls campus of M Sate. Doors open at 6:30 p.m. with the Lecture beginning at 7:00 p.m. It is free for all to attend and we hope you are able join us.</p>\n\n<p>Funded in part through an endowment by Otter Tail Power Company in 1991\, the Lecture honors the late Bob Bigwood\, who served as Otter Tail Power president and chairman of the board. Bigwood&rsquo\;s leadership in civic affairs\, at Otter Tail Power and at M State &ndash\; Fergus Falls campus as a founder of both the College and Fergus Area College Foundation sets the standard for the Lecture&rsquo\;s continuing recognition of engaged leaders and citizen participation.</p>\n
LOCATION:Legacy Hall\, M State Fergus Falls campus\, 1414 College Way\, Fergus Falls\, MN
UID:e.314.52786
SEQUENCE:3
DTSTAMP:20260423T050840Z
URL:https://business.fergusfalls.com/events/details/bigwood-lecture-la-lakers-assistant-coach-and-director-of-basketball-strategy-clay-moser-52786
END:VEVENT

END:VCALENDAR
