BEGIN:VCALENDAR
VERSION:2.0
PRODID:-//ChamberMaster//Event Calendar 2.0//EN
METHOD:PUBLISH
X-PUBLISHED-TTL:P3D
REFRESH-INTERVAL:P3D
CALSCALE:GREGORIAN
BEGIN:VEVENT
DTSTART:20160721T130000Z
DTEND:20160722T020000Z
X-MICROSOFT-CDO-ALLDAYEVENT:FALSE
SUMMARY:Bike MS: TRAM 2016 -- FERGUS FALLS Volunteers Needed!
DESCRIPTION:Bike MS: TRAM Ride 2016 (The Ride Across Minnesota) is coming to Fergus Falls and we're rolling out the red carpet for nearly 800 bicyclists who are raising money to fight MS. Last year\, TRAM raised more than $800\,000 and your participation will drive MS research forward faster\, and deliver programs and services to those who face the challenges of MS every day.\nHelp us provide them with first-class hospitality by volunteering. Church/youth groups\, service clubs and residents are all encouraged to get involved. We need volunteers for the following jobs:\n\n\n	Traffic Control in the Park (not out on the street\, adults please)\n	Luggage Handlers -- unloading/loading trucks\, helping transport bags to campsites (with wagons)\n	Bike Check In & Security -- we provide them with a secure location to place their bikes\n	Campground Ambassadors -- assisting campers getting set up\, offering to answer questions\n	Shuttle Stop Ambassador -- busses are provided to get the bikers around town - they'll have questions on places to go\n\nClick Here for Volunteer Sign Up
X-ALT-DESC;FMTTYPE=text/html:<p class="MsoNormal"><span style="font-size:12px\;"><span style="color:#000000\;">Bike MS: TRAM Ride 2016 (The Ride Across Minnesota) is coming to&nbsp\;Fergus Falls and we&#39\;re rolling out the red carpet for nearly 800 bicyclists who are raising money to fight MS.&nbsp\;Last year\, TRAM raised more than $800\,000 and your participation will drive MS research forward faster\, and deliver programs and services to those who face the challenges of MS every day.</span></span></p>\n<span style="font-size:12px\;"><span style="color:#000000\;"><span style="line-height: 14.95px\;">Help us provide them with first-class hospitality by volunteering. Church/youth groups\, service clubs and residents are all encouraged to get involved. We need volunteers for the following jobs:</span></span></span>\n\n<ul>\n	<li><span style="font-size:12px\;"><span style="color:#000000\;"><span style="line-height: 14.95px\;">Traffic Control in the Park (not out on the street\, adults please)</span></span></span></li>\n	<li><span style="font-size:12px\;"><span style="color:#000000\;"><span style="line-height: 14.95px\;">Luggage Handlers -- unloading/loading trucks\, helping transport bags to campsites (with wagons)</span></span></span></li>\n	<li><span style="font-size:12px\;"><span style="color:#000000\;"><span style="line-height: 14.95px\;">Bike Check In &amp\; Security -- we provide them with a secure location to place their bikes</span></span></span></li>\n	<li><span style="font-size:12px\;"><span style="color:#000000\;"><span style="line-height: 14.95px\;">Campground Ambassadors -- assisting campers getting set up\, offering to answer questions</span></span></span></li>\n	<li><span style="font-size:12px\;"><span style="color:#000000\;"><span style="line-height: 14.95px\;">Shuttle Stop Ambassador -- busses are provided to get the bikers around town - they&#39\;ll have questions on places to go</span></span></span></li>\n</ul>\n<span style="font-size:12px\;"><span style="color:#000000\;"><span style="line-height: 14.95px\;"><span style="font-size:14px\;"><strong><a href="https://chambermaster.blob.core.windows.net/userfiles/UserFiles/chambers/314/File/TRAMVolunteerSimplifiedSignUpForm2016.pdf">Click Here for Volunteer Sign Up</a> </strong></span></span></span></span>
LOCATION:Kirkbride Park -- on the campus of the former regional treatment center Fergus Falls\, MN
UID:e.314.32907
SEQUENCE:3
DTSTAMP:20260425T112105Z
URL:https://business.fergusfalls.com/events/details/bike-ms-tram-2016-fergus-falls-volunteers-needed-07-21-2016-32907
END:VEVENT

END:VCALENDAR
