BEGIN:VCALENDAR
VERSION:2.0
PRODID:-//ChamberMaster//Event Calendar 2.0//EN
METHOD:PUBLISH
X-PUBLISHED-TTL:P3D
REFRESH-INTERVAL:P3D
CALSCALE:GREGORIAN
BEGIN:VEVENT
DTSTART;VALUE=DATE:20160430
DTEND;VALUE=DATE:20160502
TRANSP:TRANSPARENT
X-MICROSOFT-CDO-ALLDAYEVENT:TRUE
SUMMARY:Bike Show
DESCRIPTION:Prometheus MC Bike Show \n\n \n\n	\n		\n			Event Description\n			Bike Show with Awards\, Silent Auction and More\n\n			\n\n			After Party at Z103 Bar with Live Music\n			\n		\n		\n			Location\n			Best Western Bigwood Event Center\n		\n		\n			City\n			Fergus Falls
X-ALT-DESC;FMTTYPE=text/html:<div style="color: gray\;"><strong>Prometheus MC Bike Show </strong><br />\n&nbsp\;\n<table cellpadding="4" cellspacing="0" width="100%">\n	<tbody>\n		<tr>\n			<td style="padding-top: 15px\;" valign="top">Event Description</td>\n			<td style="padding-top: 15px\;">Bike Show with Awards\, Silent Auction and More<br />\n			<br />\n			After Party at Z103 Bar with Live Music\n			<hr color="#d0d0d0" noshade="noshade" size="1" style="margin-top: 10px\;" /></td>\n		</tr>\n		<tr>\n			<td nowrap="nowrap" valign="top">Location</td>\n			<td>Best Western Bigwood Event Center</td>\n		</tr>\n		<tr>\n			<td nowrap="nowrap" valign="top">City</td>\n			<td>Fergus Falls</td>\n		</tr>\n	</tbody>\n</table>\n</div>\n
LOCATION:
UID:e.314.32664
SEQUENCE:3
DTSTAMP:20260425T145438Z
URL:https://business.fergusfalls.com/events/details/bike-show-04-30-2016-32664
END:VEVENT

END:VCALENDAR
