BEGIN:VCALENDAR
VERSION:2.0
PRODID:-//ChamberMaster//Event Calendar 2.0//EN
METHOD:PUBLISH
X-PUBLISHED-TTL:P3D
REFRESH-INTERVAL:P3D
CALSCALE:GREGORIAN
BEGIN:VEVENT
DTSTART:20161125T160000Z
DTEND:20161125T180000Z
X-MICROSOFT-CDO-ALLDAYEVENT:FALSE
SUMMARY:Black Friday Hike
DESCRIPTION:Black Friday Hike Avoid the crowds. Get outdoors on the Friday after Thanksgiving. Meet at Red Sox Park on Terrace Drive in Fergus Falls at 10:00 a.m. for a family friendly hike on the recently completed North Country Trail. The distance of the hike will be determined by the hikers. Walk a mile out and back for a total of two miles\, or walk two miles out and back for a total of four miles. Or choose your own distance.
X-ALT-DESC;FMTTYPE=text/html:Black Friday Hike Avoid the crowds. Get outdoors on the Friday after Thanksgiving. Meet at Red Sox Park on Terrace Drive in Fergus Falls at 10:00 a.m. for a family friendly hike on the recently completed North Country Trail. The distance of the hike will be determined by the hikers. Walk a mile out and back for a total of two miles\, or walk two miles out and back for a total of four miles. Or choose your own distance.
LOCATION:Meet at Red Sox Park\, Terrace Drive\, Fergus Falls
UID:e.314.36972
SEQUENCE:3
DTSTAMP:20260425T035600Z
URL:https://business.fergusfalls.com/events/details/black-friday-hike-36972
END:VEVENT

END:VCALENDAR
