BEGIN:VCALENDAR
VERSION:2.0
PRODID:-//ChamberMaster//Event Calendar 2.0//EN
METHOD:PUBLISH
X-PUBLISHED-TTL:P3D
REFRESH-INTERVAL:P3D
CALSCALE:GREGORIAN
BEGIN:VEVENT
DTSTART:20170109T110000Z
DTEND:20170110T040000Z
X-MICROSOFT-CDO-ALLDAYEVENT:FALSE
SUMMARY:BLAST OFF: 2017 LRH Community Health Challenge
DESCRIPTION:Virtual Event: January 9th we officially blast off on our mission to reach the moon! That's a collective 238\,900 miles we will shoot to exercise as a community between now and April 14th. If we accomplish our mission\, we'll give away a $3500 travel voucher to one lucky participant at our Community Health Expo on April 20th. Click the ticket link to learn all the details and register to join the mission TODAY!
X-ALT-DESC;FMTTYPE=text/html:<span class="_4n-j _3cht fsl">Virtual Event: January 9th we officially blast off on our mission to reach the moon! That&#39\;s a collective 238\,900 miles we will shoot to exercise as a community between now and April 14th. If we accomplish our mission\, we&#39\;ll give away a $3500 travel voucher to one lucky participant at our Community Health Expo on April 20th. Click the ticket link to learn all the details and register to join the mission TODAY!</span>
LOCATION:
UID:e.314.37483
SEQUENCE:3
DTSTAMP:20260425T021959Z
URL:https://business.fergusfalls.com/events/details/blast-off-2017-lrh-community-health-challenge-37483
END:VEVENT

END:VCALENDAR
