BEGIN:VCALENDAR
VERSION:2.0
PRODID:-//ChamberMaster//Event Calendar 2.0//EN
METHOD:PUBLISH
X-PUBLISHED-TTL:P3D
REFRESH-INTERVAL:P3D
CALSCALE:GREGORIAN
BEGIN:VEVENT
DTSTART:20160507T020000Z
DTEND:20160507T060000Z
X-MICROSOFT-CDO-ALLDAYEVENT:FALSE
SUMMARY:Blind Joe from the Voice at the Z
DESCRIPTION:Blind Joe at the Z \n\nOur last band of the season! Come out and welcome Joe to The Z for his first show here! $5 cover
X-ALT-DESC;FMTTYPE=text/html:<span class="_4n-j fsl"><strong>Blind Joe at the Z </strong><br />\nOur last band of the season! Come out and welcome Joe to The Z for his first show here! $5 cover</span>
LOCATION:Z103 Bar & Grill 902 Frontier Dr\, Fergus Falls\, Minnesota 56537
UID:e.314.32668
SEQUENCE:3
DTSTAMP:20260425T163552Z
URL:https://business.fergusfalls.com/events/details/blind-joe-from-the-voice-at-the-z-05-06-2016-32668
END:VEVENT

END:VCALENDAR
