BEGIN:VCALENDAR
VERSION:2.0
PRODID:-//ChamberMaster//Event Calendar 2.0//EN
METHOD:PUBLISH
X-PUBLISHED-TTL:P3D
REFRESH-INTERVAL:P3D
CALSCALE:GREGORIAN
BEGIN:VEVENT
DTSTART:20180627T000000Z
DTEND:20180627T010000Z
X-MICROSOFT-CDO-ALLDAYEVENT:FALSE
SUMMARY:Block Party Captain Meeting for National Night Out
DESCRIPTION:National Night Out will be held in Fergus Falls - and nationwide - on Tuesday\, August 7th. To be a success we need people to volunteer to be block party captains in their neighborhoods. YOU decide and define your own neighborhoods - there are no wrong answers.\n\n\n\nThis meeting will give you the tips and resources to host a successful block party. Please invite friends - and neighbors!
X-ALT-DESC;FMTTYPE=text/html:<div class="_63ew" data-testid="event-permalink-details"><span>National Night Out will be held in Fergus Falls - and nationwide - on Tuesday\, August 7th. To be a success we need people to volunteer to be block party captains in their neighborhoods. YOU decide and define your own neighborhoods - there are no wrong answers.<br />\n<br />\nThis meeting will give you the tips and resources to host a successful block party. Please invite friends - and neighbors!</span></div>\n
LOCATION:City Council Chambers - Fergus Falls 112 West Washington Avenue
UID:e.314.49987
SEQUENCE:3
DTSTAMP:20260423T213632Z
URL:https://business.fergusfalls.com/events/details/block-party-captain-meeting-for-national-night-out-49987
END:VEVENT

END:VCALENDAR
