BEGIN:VCALENDAR
VERSION:2.0
PRODID:-//ChamberMaster//Event Calendar 2.0//EN
METHOD:PUBLISH
X-PUBLISHED-TTL:P3D
REFRESH-INTERVAL:P3D
CALSCALE:GREGORIAN
BEGIN:VEVENT
DTSTART:20180713T160000Z
DTEND:20180713T210000Z
X-MICROSOFT-CDO-ALLDAYEVENT:FALSE
SUMMARY:Blood Drive-Honor Your Hero
DESCRIPTION:Blood Drive - Honor Your Hero\, Be a Hero\n\n \nThe summer months are when blood donations are needed desperately. The Red Cross holds several drives in our area and we are excited to partner with them for this "Honor a Hero be a Hero" event. All donors will receive a t-shirt with the statement "I donate blood in honor of those who serve."
X-ALT-DESC;FMTTYPE=text/html:<strong>Blood Drive - Honor Your Hero\, Be a Hero</strong><br />\n&nbsp\;\n<div class="_63ew" data-testid="event-permalink-details"><span>The summer months are when blood donations are needed desperately. The Red Cross holds several drives in our area and we are excited to partner with them for this &quot\;Honor a Hero be a Hero&quot\; event. All donors will receive a t-shirt with the statement &quot\;I donate blood in honor of those who serve.&quot\;</span></div>\n
LOCATION:Fergus Falls VFW Post 612 Auxiliary
UID:e.314.49986
SEQUENCE:3
DTSTAMP:20260423T195744Z
URL:https://business.fergusfalls.com/events/details/blood-drive-honor-your-hero-49986
END:VEVENT

END:VCALENDAR
