BEGIN:VCALENDAR
VERSION:2.0
PRODID:-//ChamberMaster//Event Calendar 2.0//EN
METHOD:PUBLISH
X-PUBLISHED-TTL:P3D
REFRESH-INTERVAL:P3D
CALSCALE:GREGORIAN
BEGIN:VEVENT
DTSTART:20161222T010000Z
DTEND:20161222T020000Z
X-MICROSOFT-CDO-ALLDAYEVENT:FALSE
SUMMARY:Blue Christmas Service
DESCRIPTION:The Blue Christmas service is intended to be a time of solace for anyone who\, for whatever reason\, may struggle to have a merry Christmas. Heather Rundquist will be sharing her story during the service. \n\nThis is sponsored by local area congregations and Lake Region Chaplaincy Services. All are welcome.
X-ALT-DESC;FMTTYPE=text/html:The Blue Christmas service is intended to be a time of solace for anyone who\, for whatever reason\, may struggle to have a merry Christmas. Heather Rundquist will be sharing her story during the service.&nbsp\;<br />\nThis is sponsored by local area congregations and Lake Region Chaplaincy Services. All are welcome.
LOCATION:The Federated Church of Fergus Falls 224 N Union Ave
UID:e.314.37246
SEQUENCE:3
DTSTAMP:20260425T021821Z
URL:https://business.fergusfalls.com/events/details/blue-christmas-service-37246
END:VEVENT

END:VCALENDAR
