BEGIN:VCALENDAR
VERSION:2.0
PRODID:-//ChamberMaster//Event Calendar 2.0//EN
METHOD:PUBLISH
X-PUBLISHED-TTL:P3D
REFRESH-INTERVAL:P3D
CALSCALE:GREGORIAN
BEGIN:VEVENT
DTSTART:20160721T233000Z
DTEND:20160722T010000Z
X-MICROSOFT-CDO-ALLDAYEVENT:FALSE
SUMMARY:BMX Races
DESCRIPTION:I-94 BMX is a Non-Profit organization that relies on the efforts of volunteers to provide kids and families a place to be involved in the great sport of BMX Racing.
X-ALT-DESC;FMTTYPE=text/html:<span style="font: 12px/16px helvetica\, arial\, sans-serif\; color: rgb(75\, 79\, 86)\; text-transform: none\; text-indent: 0px\; letter-spacing: normal\; word-spacing: 0px\; float: none\; display: inline !important\; white-space: normal\; widows: 1\; font-size-adjust: none\; font-stretch: normal\; background-color: rgb(255\, 255\, 255)\; -webkit-text-stroke-width: 0px\;">I-94 BMX is a Non-Profit organization that relies on the efforts of volunteers to provide kids and families a place to be involved in the great sport of BMX Racing.</span>
LOCATION:1012 Maryland Ln Fergus Falls\, MN
UID:e.314.32799
SEQUENCE:3
DTSTAMP:20260425T125246Z
URL:https://business.fergusfalls.com/events/details/bmx-races-07-21-2016-32799
END:VEVENT

END:VCALENDAR
