BEGIN:VCALENDAR
VERSION:2.0
PRODID:-//ChamberMaster//Event Calendar 2.0//EN
METHOD:PUBLISH
X-PUBLISHED-TTL:P3D
REFRESH-INTERVAL:P3D
CALSCALE:GREGORIAN
BEGIN:VEVENT
DTSTART:20181216T200000Z
DTEND:20181216T220000Z
X-MICROSOFT-CDO-ALLDAYEVENT:FALSE
SUMMARY:Bo and Friends
DESCRIPTION:Bo Anderson & Friends\n\n\n\nSunday\, December 16 2pm\n\n\n\nBo Anderson is an 18 year old music prodigy who has found a special passion for our Wurlitzer Theater Organ. He and a wonderful group of friends will light the stage with music & other surprises.\n\n\n\nTickets available online at www.fergusarts.org\n\n\n\nAdults $12 / Students $8
X-ALT-DESC;FMTTYPE=text/html:<div class="_63ew" data-testid="event-permalink-details"><span>Bo Anderson &amp\; Friends<br />\n<br />\nSunday\, December 16 2pm<br />\n<br />\nBo Anderson is an 18 year old music prodigy who has found a special passion for our Wurlitzer Theater Organ. He and a wonderful group of friends will light the stage with music &amp\; other surprises.<br />\n<br />\nTickets available online at <a data-lynx-mode="hover" href="http://l.facebook.com/l.php?u=http%3A%2F%2Fwww.fergusarts.org%2F%3Ffbclid%3DIwAR0bONL2Cd7yB7UPBHsaCjsylwwIDj5uTGUvWVeYPdM2PHBuJrHB6KUG7pY&amp\;h=AT1JtasigSyf6bmwL7oG15qtrpeVIh_XEWylGQ_gp93E07CY2VEB7aQ1kgk2VoTZ5STSvZfelE2tBMSxZXMjg2OUlKVcgchDybm7sr7vS0EfzKO7LQt1-RZUGGJCyaAeag" rel="nofollow" target="_blank"><font color="#0066cc">www.fergusarts.org</font></a><br />\n<br />\nAdults $12 / Students $8</span></div>\n
LOCATION:A Center for the Arts 124 W Lincoln Ave Fergus Falls MN
UID:e.314.51682
SEQUENCE:3
DTSTAMP:20260423T122030Z
URL:https://business.fergusfalls.com/events/details/bo-and-friends-51682
END:VEVENT

END:VCALENDAR
