BEGIN:VCALENDAR
VERSION:2.0
PRODID:-//ChamberMaster//Event Calendar 2.0//EN
METHOD:PUBLISH
X-PUBLISHED-TTL:P3D
REFRESH-INTERVAL:P3D
CALSCALE:GREGORIAN
BEGIN:VEVENT
DTSTART:20151120T013000Z
DTEND:20151120T040000Z
X-MICROSOFT-CDO-ALLDAYEVENT:FALSE
SUMMARY:Bob Dylan Hour and Community Jam!
DESCRIPTION:Punk Rock meets Classic Folk for this\, the fourth week in our Thursday Night Live Music series!\n\n\n\nThe night will begin with "Hinge Arts" artist-in-residence musician Shannon Murray-Singer\, a punk rock/acoustic folk musician who hails from the Northwoods of Minnesota. Shannon is a member of the Riot Folk! Collective who tackles guitar-playing and songcrafting like it's a contact sport\, mixing folk and punk traditions with a unique flair. She has been making folk music a 'threat' again since 2001 with her quirky stories\, passionate message\, and contagious energy. Get a taste of her sound here: https://shannonmurray.bandcamp.com/track/nobody-can-own-the-rights\n\nCheck out her website here: www.shannonmurraymusic.co...m\n\n\n\nAt 8:00 we will open up the floor for "Bob Dylan Hour"\, a new series we're working on to engage local musicians to celebrate beloved\, classic musicians - one community "jam" at a time! This week we celebrate folk legend Bob Dylan\, and invite you to sign up to play one (or three\, or five!) of your favorite Dylan tracks. Guitar? Keyboard? Upright Bass? Banjo? You name it\, we want to hear it! Bringing your own instruments is encouraged\, but we will have instruments available for you.\n\n\n\nAs a way to gauge involvement and commitment\, we're asking interested folks (pardon the pun) to leave a comment on this event page with what song(s) they're willing to play that night. We're really looking forward to your help in celebrating this wonderfully-unique evening of music. Look forward to seeing you!
X-ALT-DESC;FMTTYPE=text/html:<div class="text_exposed_root text_exposed" id="id_56463576a46d48d34402867"><span class="fsl">Punk Rock meets Classic Folk for this\, the fourth week in our Thursday Night Live Music series!<br />\n<br />\nThe night will begin with &quot\;Hinge Arts&quot\; artist-in-residence musician Shannon Murray-Singer\, a punk rock/acoustic folk musician who hails from the Northwoods of Minnesota. Shannon is a member of the Riot Folk! Collective who tackles guitar-playing and songcrafting like it&#39\;s a contact sport\, mixing folk and punk traditions with a unique flair. She has been making folk music a &#39\;threat&#39\; again since 2001 with her quirky stories\, passionate message\, and contagious energy. Get a taste of her sound here: <a href="https://shannonmurray.bandcamp.com/track/nobody-can-own-the-rights" rel="nofollow nofollow" target="_blank"><font color="#0066cc"><span>https://</span><wbr /></font><font color="#0066cc"><span>shannonmurray.bandcamp.com/</span><wbr /></font><font color="#0066cc"><span>track/</span><wbr /></font><font color="#0066cc">nobody-can-own-the-rights</font></a><br />\nCheck out her website here: <a href="http://www.shannonmurraymusic.com/" rel="nofollow nofollow" target="_blank"><font color="#0066cc">www.shannonmurraymusic.co</font><span class="text_exposed_hide"><font color="#0066cc">...</font></span><span class="text_exposed_show"><font color="#0066cc">m</font></span></a><br />\n<br />\n<span class="text_exposed_show">At 8:00 we will open up the floor for &quot\;Bob Dylan Hour&quot\;\, a new series we&#39\;re working on to engage local musicians to celebrate beloved\, classic musicians - one community &quot\;jam&quot\; at a time! This week we celebrate folk legend Bob Dylan\, and invite you to sign up to play one (or three\, or five!) of your favorite Dylan tracks. Guitar? Keyboard? Upright Bass? Banjo? You name it\, we want to hear it! Bringing your own instruments is encouraged\, but we will have instruments available for you.<br />\n<br />\nAs a way to gauge involvement and commitment\, we&#39\;re asking interested folks (pardon the pun) to leave a comment on this event page with what song(s) they&#39\;re willing to play that night. We&#39\;re really looking forward to your help in celebrating this wonderfully-unique evening of music. Look forward to seeing you!</span></span></div>\n
LOCATION:Union Pizza & Brewing CO. 114 S Union Ave Fergus Falls Mn 56537
UID:e.314.26465
SEQUENCE:3
DTSTAMP:20260426T011109Z
URL:https://business.fergusfalls.com/events/details/bob-dylan-hour-and-community-jam-11-19-2015-26465
END:VEVENT

END:VCALENDAR
