BEGIN:VCALENDAR
VERSION:2.0
PRODID:-//ChamberMaster//Event Calendar 2.0//EN
METHOD:PUBLISH
X-PUBLISHED-TTL:P3D
REFRESH-INTERVAL:P3D
CALSCALE:GREGORIAN
BEGIN:VEVENT
DTSTART:20160517T190000Z
DTEND:20160517T210000Z
X-MICROSOFT-CDO-ALLDAYEVENT:FALSE
SUMMARY:Boot Scootin' BINGO Invitational - Park Gardens
DESCRIPTION:Boot Scootin' BINGO Invitational \n\nHosted by Park Gardens\n\nJoin us For Snacks\, Bingo\, and Prizes! \n\nDate: Tuesday\, May 17\n\nTime: 2:00 p.m. - 4:00 p.m.\n\nLocation: Park Gardens\n\nSenior Living\n\n215 E Skogmo Blvd\, Fergus Falls 56537 \n\n\n\nWear your hat and boots and you will be entered into our Cowboy/Cowgirl Contest! \n\nDon't miss out! It will be a Rootin' Tootin Hollerin' Good Time! \n\nRides available. Pick-up from Senior Center at 1:30 p.m.
X-ALT-DESC;FMTTYPE=text/html:<p><span style="font-size: 16px\;"><span style="color: rgb(0\, 0\, 255)\;"><span style="font-size: 20px\;"><b>Boot Scootin&rsquo\; BINGO&nbsp\;</b></span></span><b><span style="color: rgb(0\, 0\, 255)\;"><span style="font-size: 20px\;">Invitational </span></span></b><br />\n<b><font face="Bookman Old Style\,Bookman Old Style"><font face="Bookman Old Style\,Bookman Old Style">Hosted by Park Gardens</font></font></b></span></p>\n\n<p><span style="color: rgb(255\, 0\, 0)\;"><span style="font-size: 16px\;"><font face="Lucida Calligraphy\,Lucida Calligraphy"><font face="Lucida Calligraphy\,Lucida Calligraphy">Join us For Snacks\, Bingo\, and Prizes! </font></font></span></span></p>\n\n<p><span style="font-size: 14px\;"><font face="Bookman Old Style\,Bookman Old Style"><font face="Bookman Old Style\,Bookman Old Style">Date: Tuesday\, May 17<br />\nTime: 2:00 p.m. - 4:00 p.m.<br />\nLocation: Park Gardens<br />\nSenior Living<br />\n215 E Skogmo Blvd\, Fergus Falls 56537 </font></font></span></p>\n\n<p><br />\n<span style="font-size: 16px\;"><b><font face="Georgia\,Georgia"><font face="Georgia\,Georgia">Wear your hat and boots and you will be entered into our Cowboy/Cowgirl Contest! </font></font></b></span></p>\n\n<p><span style="font-size: 16px\;"><b><font face="Georgia\,Georgia"><font face="Georgia\,Georgia">Don&rsquo\;t miss out! </font></font></b></span><span style="font-size: 16px\;"><b><font face="Georgia\,Georgia"><font face="Georgia\,Georgia">It will be a Rootin&rsquo\; Tootin </font></font></b></span><span style="font-size: 16px\;"><b><font face="Georgia\,Georgia"><font face="Georgia\,Georgia">Hollerin&rsquo\; Good Time! </font></font></b></span></p>\n\n<p><span style="font-size: 16px\;"><b><font face="Georgia\,Georgia"><font face="Georgia\,Georgia">Rides available. Pick-up from Senior Center at 1:30 p.m. </font></font></b></span></p>\n
LOCATION:Park Gardens Senior Living 215 E Skogmo Blvd\, Fergus Falls 56537
UID:e.314.32545
SEQUENCE:3
DTSTAMP:20260425T163154Z
URL:https://business.fergusfalls.com/events/details/boot-scootin-bingo-invitational-park-gardens-05-17-2016-32545
END:VEVENT

END:VCALENDAR
