BEGIN:VCALENDAR
VERSION:2.0
PRODID:-//ChamberMaster//Event Calendar 2.0//EN
METHOD:PUBLISH
X-PUBLISHED-TTL:P3D
REFRESH-INTERVAL:P3D
CALSCALE:GREGORIAN
BEGIN:VEVENT
DTSTART:20160416T210000Z
DTEND:20160417T010000Z
X-MICROSOFT-CDO-ALLDAYEVENT:FALSE
SUMMARY:Boots\, Beer and Bangles!!!
DESCRIPTION:Boots\, Beer and Bangles!!!\n\n\n\nJoin us Saturday April 16 for our First Annual Style Show!\n\n\n\nThe runway will feature clothing fashions from each of four stores\, (we're calling them our Periwinkle Places)\n\n\n\nPaisley Lane (Perham)\n\nPeriwinkle Marketplace (Ottertail)\n\nthe bric (Fergus Falls)\n\nthe grain bin (Wahpeton)\n\n\n\nEnjoy a fun evening out with your favorite ladies! Get access to stock up on new spring essentials.\n\n\n\nTICKETS $20...\n\nTickets include complimentary Beer\, Appetizer\, Goodie Bag\, Raffle for Cowgirl Boots\, Gift Cards\, Door Prize Drawing and more!\n\n(In case you were wondering\, we changed our mind about V.I.P. tickets and won't be offering them. Instead\, all tickets will be the same price and include the goodies above.)\n\n\n\nGet your tickets from any of the four stores or by calling Periwinkle at 218-367-3900.\n\n\n\nSCHEDULE\n\n4pm Social Hour/ Shopping\n\n5:30 Runway Show\n\n6:30 - 8:00 More Shopping and Mingling\n\nDoor prizes drawn.\n\n\n\nStart out the evening with a social hour and shopping on the floor at Thumper Pond.\n\n\n\nAt 5:30 all four stores will be on the runway. Hair and make-up sponsored by Mirror Mirror from Perham.\n\n\n\nAfterwards\, you definitley have the chance to do more shopping and mingling.
X-ALT-DESC;FMTTYPE=text/html:<div class="text_exposed_root text_exposed" id="id_56ec3d9c7f1c71410983212"><span class="_fbReactionComponent__eventDetailsContent fsl">Boots\, Beer and Bangles!!!<br />\n<br />\nJoin us <strong>Saturday April 16 for our First Annual Style Show</strong>!<br />\n<br />\nThe runway will feature clothing fashions from each of four stores\, (we&#39\;re calling them our Periwinkle Places)<br />\n<br />\nPaisley Lane (Perham)<br />\nPeriwinkle Marketplace (Ottertail)<br />\n<span style="color: rgb(0\, 0\, 255)\;"><strong>the bric (Fergus Falls)</strong></span><br />\nthe grain bin (Wahpeton)<br />\n<br />\nEnjoy a fun evening out with your favorite ladies! Get access to stock up on new spring essentials.<br />\n<br />\n<strong>TICKETS $20<span class="text_exposed_hide">...</span></strong><br />\n<span class="text_exposed_show">Tickets include complimentary Beer\, Appetizer\, Goodie Bag\, Raffle for Cowgirl Boots\, Gift Cards\, Door Prize Drawing and more!<br />\n(In case you were wondering\, we changed our mind about V.I.P. tickets and won&rsquo\;t be offering them. Instead\, all tickets will be the same price and include the goodies above.)<br />\n<br />\nGet your tickets from any of the four stores or by calling <strong>Periwinkle at 218-367-3900.</strong><br />\n<br />\n<strong>SCHEDULE</strong><br />\n4pm Social Hour/ Shopping<br />\n5:30 Runway Show<br />\n6:30 - 8:00 More Shopping and Mingling<br />\nDoor prizes drawn.<br />\n<br />\nStart out the evening with a social hour and shopping on the floor at <span style="color: rgb(0\, 128\, 0)\;">Thumper Pond.</span><br />\n<br />\nAt 5:30 all four stores will be on the runway.<span style="font-size: 10px\;"> Hair and make-up sponsored by Mirror Mirror from Perham.</span><br />\n<br />\nAfterwards\, you definitley have the chance to do more shopping and mingling.</span></span></div>\n
LOCATION:Thumper Pond Resort in Ottertail MN 300 Thumper Lodge Rd\, Ottertail\, Minnesota 56571
UID:e.314.32054
SEQUENCE:3
DTSTAMP:20260425T162753Z
URL:https://business.fergusfalls.com/events/details/boots-beer-and-bangles-04-16-2016-32054
END:VEVENT

END:VCALENDAR
