BEGIN:VCALENDAR
VERSION:2.0
PRODID:-//ChamberMaster//Event Calendar 2.0//EN
METHOD:PUBLISH
X-PUBLISHED-TTL:P3D
REFRESH-INTERVAL:P3D
CALSCALE:GREGORIAN
BEGIN:VEVENT
DTSTART:20151114T180000Z
DTEND:20151114T230000Z
X-MICROSOFT-CDO-ALLDAYEVENT:FALSE
SUMMARY:Boughs and Bows - Tour of Homes
DESCRIPTION:Boughs & Bows event - Fergus Falls AAUW Tour of Homes is scheduled on Saturday\, November 14\, 2015 from 12:00 noon to 5:00 p.m. The cost for tickets is $20.00. Five (5) Fergus Falls homes will be viewed and there will be a reception. Proceeds go to scholarships for area young women. Tickets are available at Service Food\, The Market\, Victor Lundeen's\, Beyond the Mitred Corner\, Refreshing Designs in Perham\, and William Co. Store in Otter Tail City. For more information\, go to www.ffaauw.blogspot.com or email ffaauw@yahoo.com.
X-ALT-DESC;FMTTYPE=text/html:Boughs &amp\; Bows event - Fergus Falls AAUW Tour of Homes is scheduled on Saturday\, November 14\, 2015 from 12:00 noon to 5:00 p.m. The cost for tickets is $20.00. Five (5) Fergus Falls homes will be viewed and there will be a reception. Proceeds go to scholarships for area young women. Tickets are available at Service Food\, The Market\, Victor Lundeen&#39\;s\, Beyond the Mitred Corner\, Refreshing Designs in Perham\, and William Co. Store in Otter Tail City. For more information\, go to www.ffaauw.blogspot.com or email ffaauw@yahoo.com.
LOCATION:
UID:e.314.24459
SEQUENCE:3
DTSTAMP:20260426T011759Z
URL:https://business.fergusfalls.com/events/details/boughs-and-bows-tour-of-homes-11-14-2015-24459
END:VEVENT

END:VCALENDAR
