BEGIN:VCALENDAR
VERSION:2.0
PRODID:-//ChamberMaster//Event Calendar 2.0//EN
METHOD:PUBLISH
X-PUBLISHED-TTL:P3D
REFRESH-INTERVAL:P3D
CALSCALE:GREGORIAN
BEGIN:VEVENT
DTSTART:20191003T170000Z
DTEND:20191003T180000Z
X-MICROSOFT-CDO-ALLDAYEVENT:FALSE
SUMMARY:BPW Monthly Meeting
DESCRIPTION:Fergus Falls Business & Professional Women (BPW) Monthly Meeting
X-ALT-DESC;FMTTYPE=text/html:Fergus Falls Business &amp\; Professional Women (BPW) Monthly Meeting&nbsp\;&nbsp\;&nbsp\;&nbsp\;
LOCATION:Cafe 116 116 S. Union Ave. Fergus Falls\, MN
UID:e.314.53921
SEQUENCE:3
DTSTAMP:20260422T222803Z
URL:https://business.fergusfalls.com/events/details/bpw-monthly-meeting-10-03-2019-53921
END:VEVENT

END:VCALENDAR
