BEGIN:VCALENDAR
VERSION:2.0
PRODID:-//ChamberMaster//Event Calendar 2.0//EN
METHOD:PUBLISH
X-PUBLISHED-TTL:P3D
REFRESH-INTERVAL:P3D
CALSCALE:GREGORIAN
BEGIN:VEVENT
DTSTART:20180428T120000Z
DTEND:20180428T150000Z
X-MICROSOFT-CDO-ALLDAYEVENT:FALSE
SUMMARY:Bread & Jam Dash 5k
DESCRIPTION:The Bread and Jam Dash 5k is a memorial event inspired by the memory of Diane Ihrke. Diane was a Hillcrest parent and supporter who made many sacrifices to send her boys to school there. She passed away unexpectedly in March of 2017\, leaving behind two teenage sons\, Sam and Zeke. These boys want to create a memorial scholarship fund\, using the Bread and Jam Dash to fund the account\, to give away scholarships to students in similar situations so they can attend Hillcrest too. All in honor of their mom\, Diane. RACE DETAILS: Date: April 28\, 2018 Packet Pick up Begins at 7:00 am\, April 28\, 2018 Packet Pick up will be held in the Student Union (Building behind the castle and down the hill.) Parking is available in the Bethel Church lot and the Hillcrest lot behind the football field. Additional parking available on side streets. Race begins at 9:00am This is a family friendly event. Lots of entertainment and inflatables for kids. Strollers welcome in the race too!
X-ALT-DESC;FMTTYPE=text/html:The Bread and Jam Dash 5k is a memorial event inspired by the memory of Diane Ihrke. Diane was a Hillcrest parent and supporter who made many sacrifices to send her boys to school there. She passed away unexpectedly in March of 2017\, leaving behind two teenage sons\, Sam and Zeke. These boys want to create a memorial scholarship fund\, using the Bread and Jam Dash to fund the account\, to give away scholarships to students in similar situations so they can attend Hillcrest too. All in honor of their mom\, Diane. RACE DETAILS: Date: April 28\, 2018 Packet Pick up Begins at 7:00 am\, April 28\, 2018 Packet Pick up will be held in the Student Union (Building behind the castle and down the hill.) Parking is available in the Bethel Church lot and the Hillcrest lot behind the football field. Additional parking available on side streets. Race begins at 9:00am This is a family friendly event. Lots of entertainment and inflatables for kids. Strollers welcome in the race too!
LOCATION:Hillcrest Academy 610 Hillcrest Drive Fergus Falls\, MN 56537
UID:e.314.46365
SEQUENCE:3
DTSTAMP:20260423T235042Z
URL:https://business.fergusfalls.com/events/details/bread-jam-dash-5k-46365
END:VEVENT

END:VCALENDAR
