BEGIN:VCALENDAR
VERSION:2.0
PRODID:-//ChamberMaster//Event Calendar 2.0//EN
METHOD:PUBLISH
X-PUBLISHED-TTL:P3D
REFRESH-INTERVAL:P3D
CALSCALE:GREGORIAN
BEGIN:VEVENT
DTSTART:20171004T223000Z
DTEND:20171005T003000Z
X-MICROSOFT-CDO-ALLDAYEVENT:FALSE
SUMMARY:Breast Cancer Educational Event
DESCRIPTION:Join us for a dedicated night to breast cancer\, awareness and prevention with featured speakers Dr. John Tate (Breast Cancer: Risk Assessment\, Prevention\, and Screening) and Dr. Kamran Khaghany (3D Mammography benefits and Mammography Screening & Timing). Each physician will have time for questions and answers. Radiation Oncology will also be providing a demonstration and tour of radiation services.
X-ALT-DESC;FMTTYPE=text/html:<span class="_4n-j _3cht fsl" data-testid="event-permalink-details">Join us for a dedicated night to breast cancer\, awareness and prevention with featured speakers Dr. John Tate (Breast Cancer: Risk Assessment\, Prevention\, and Screening) and Dr. Kamran Khaghany (3D Mammography benefits and Mammography Screening &amp\; Timing). Each physician will have time for questions and answers. Radiation Oncology will also be providing a demonstration and tour of radiation services.</span>
LOCATION:LRH Cancer Care & Research Center 908 Cascade St S Fergus Falls
UID:e.314.42813
SEQUENCE:3
DTSTAMP:20260424T092349Z
URL:https://business.fergusfalls.com/events/details/breast-cancer-educational-event-42813
END:VEVENT

END:VCALENDAR
