BEGIN:VCALENDAR
VERSION:2.0
PRODID:-//ChamberMaster//Event Calendar 2.0//EN
METHOD:PUBLISH
X-PUBLISHED-TTL:P3D
REFRESH-INTERVAL:P3D
CALSCALE:GREGORIAN
BEGIN:VEVENT
DTSTART:20160416T200000Z
DTEND:20160417T000000Z
X-MICROSOFT-CDO-ALLDAYEVENT:FALSE
SUMMARY:Breathe Easy Benefit for Chris Mitlyng & His Family
DESCRIPTION:Fergus Falls VFW\, Saturday April 16th from 3 pm - close.  \n\n(Food from 3 pm - 7 pm)\n\n\n\nEnjoy delicious pulled pork and picnic fixin's (Free Will Offering)\n\n\n\nLIVE music from many talented area artists.\n\n\n\nYou can donate to the Chris Mitlyng Fund at US Bank in Fergus Falls.\n\n\n\nBake Sale and Silent Auction Donations can be made to Lou Ann at Cooper's and are greatly appreciated.\n\n\n\nCome for the whole afternoon and stay for the whole evening.\n\n\n\nChris has been diagnosed with Disseminated Histoplasmosis.  This is a fungal infection that you can get if you are a gardener\, are out in the woods and around rotting wood\, etc.  It has spread from his lungs into his kidneys\, liver and spleen.  They have him on a specific\, very expensive anti fungal antibiotic that he will have to take for at least 6 months up to a year.  His energy level is non existent.  He is very short of breath and coughing a lot and in a lot of pain.  It will be a long recovery with ups and downs.
X-ALT-DESC;FMTTYPE=text/html:<p>Fergus Falls VFW\, Saturday April 16th&nbsp\;from 3 pm - close. &nbsp\;<br />\n(Food from 3 pm - 7 pm)<br />\n<br />\nEnjoy delicious pulled pork and picnic fixin&#39\;s (Free Will Offering)<br />\n<br />\nLIVE music from many talented area artists.<br />\n<br />\nYou can donate to the Chris Mitlyng&nbsp\;Fund at US Bank in Fergus Falls.<br />\n<br />\n<span style="font-size: 16px\;"><strong>Bake Sale and Silent Auction Donations can be made to Lou Ann at Cooper&#39\;s and are greatly appreciated.</strong></span><br />\n<br />\nCome for the whole afternoon and stay for the whole evening.<br />\n<br />\nChris has been diagnosed with Disseminated Histoplasmosis. &nbsp\;This is a fungal infection that you can get if you are a gardener\, are out in the woods and around rotting wood\, etc. &nbsp\;It has spread from his lungs into his kidneys\, liver and spleen. &nbsp\;They have him on a specific\, very expensive anti fungal antibiotic that he will have to take for at least 6 months up to a year. &nbsp\;His energy level is non existent. &nbsp\;He is very short of breath and coughing a lot and in a lot of pain. &nbsp\;It will be a long recovery with ups and downs.</p>\n
LOCATION:VFW Post 612 420 E Washington Ave Fergus Falls\, MN
UID:e.314.32061
SEQUENCE:3
DTSTAMP:20260425T163515Z
URL:https://business.fergusfalls.com/events/details/breathe-easy-benefit-for-chris-mitlyng-his-family-04-16-2016-32061
END:VEVENT

END:VCALENDAR
