BEGIN:VCALENDAR
VERSION:2.0
PRODID:-//ChamberMaster//Event Calendar 2.0//EN
METHOD:PUBLISH
X-PUBLISHED-TTL:P3D
REFRESH-INTERVAL:P3D
CALSCALE:GREGORIAN
BEGIN:VEVENT
DTSTART:20180319T160000Z
DTEND:20180319T170000Z
X-MICROSOFT-CDO-ALLDAYEVENT:FALSE
SUMMARY:Breathe Easy education
DESCRIPTION:This educational session will help attendees understand the conditions that impact breathing\, such as Chronic Obstructive Pulmonary Disease and Congestive Heart Failure. A Knute Nelson Physical Therapist will lead this session and help identify strategies and exercises to help attendees breathe easier and learn basic exercises to help gain control of their breathing and activity.
X-ALT-DESC;FMTTYPE=text/html:This educational session will help attendees understand the conditions that impact breathing\, such as Chronic Obstructive Pulmonary Disease and Congestive Heart Failure. A Knute Nelson Physical Therapist will lead this session and help identify strategies and exercises to help attendees breathe easier and learn basic exercises to help gain control of their breathing and activity.
LOCATION:Fergus Falls Senior Center
UID:e.314.43909
SEQUENCE:3
DTSTAMP:20260424T025033Z
URL:https://business.fergusfalls.com/events/details/breathe-easy-education-43909
END:VEVENT

END:VCALENDAR
