BEGIN:VCALENDAR
VERSION:2.0
PRODID:-//ChamberMaster//Event Calendar 2.0//EN
METHOD:PUBLISH
X-PUBLISHED-TTL:P3D
REFRESH-INTERVAL:P3D
CALSCALE:GREGORIAN
BEGIN:VEVENT
DTSTART:20180319T160000Z
DTEND:20180319T170000Z
X-MICROSOFT-CDO-ALLDAYEVENT:FALSE
SUMMARY:Breathe Easy Education
DESCRIPTION:This free Breathe Easy educational session will help attendees understand the conditions that impact breathing\, such as Chronic Obstructive Pulmonary Disease and Congestive Heart Failure.\n\n\n\nA Knute Nelson Physical Therapist will lead this session\n\nand help identify strategies and exercises to help attendees breathe easier and learn basic exercises to help gain control of their breathing and activity.
X-ALT-DESC;FMTTYPE=text/html:<span class="_4n-j _3cht fsl" data-testid="event-permalink-details">This free Breathe Easy educational session will help attendees understand the conditions that impact breathing\, such as Chronic Obstructive Pulmonary Disease and Congestive Heart Failure.<br />\n<br />\nA Knute Nelson Physical Therapist will lead this session<br />\nand help identify strategies and exercises to help attendees breathe easier and learn basic exercises to help gain control of their breathing and activity.</span>
LOCATION:Fergus Falls Senior Citizens Program Inc\, 115 Lincoln Ave Fergus Falls
UID:e.314.43910
SEQUENCE:3
DTSTAMP:20260424T012215Z
URL:https://business.fergusfalls.com/events/details/breathe-easy-education-43910
END:VEVENT

END:VCALENDAR
