BEGIN:VCALENDAR
VERSION:2.0
PRODID:-//ChamberMaster//Event Calendar 2.0//EN
METHOD:PUBLISH
X-PUBLISHED-TTL:P3D
REFRESH-INTERVAL:P3D
CALSCALE:GREGORIAN
BEGIN:VEVENT
DTSTART:20171014T000000Z
DTEND:20171014T030000Z
X-MICROSOFT-CDO-ALLDAYEVENT:FALSE
SUMMARY:Brewers Fest 2017
DESCRIPTION:The 2017 Brewers Fest is just around the corner. Mark your calendar for Friday\, October 13\, 7:00pm-10:00pm at the Fergus Falls VFW to sample the area's best wines and beers.\n\n\n\nA Silent Auction will be held throughout the evening. Donations will be accepted for the Silent Auction until 6:00 p.m. on October 13th.\n\n\n\nAdvance tickets may be purchased at the Otter Tail County Historical Museum or the Fergus Falls VFW for just $12. Admission at the door is $15.\n\n\n\nAll proceeds support the Otter Tail County Historical Society.
X-ALT-DESC;FMTTYPE=text/html:<span class="_4n-j _3cht fsl" data-testid="event-permalink-details">The 2017 Brewers Fest is just around the corner. Mark your calendar for Friday\, October 13\, 7:00pm-10:00pm at the Fergus Falls VFW to sample the area&#39\;s best wines and beers.<br />\n<br />\nA Silent Auction will be held throughout the evening. Donations will be accepted for the Silent Auction until 6:00 p.m. on October 13th.<br />\n<br />\nAdvance tickets may be purchased at the Otter Tail County Historical Museum or the Fergus Falls VFW for just $12. Admission at the door is $15.<br />\n<br />\nAll proceeds support the Otter Tail County Historical Society.</span>
LOCATION:Fergus Falls VFW
UID:e.314.42817
SEQUENCE:3
DTSTAMP:20260424T092245Z
URL:https://business.fergusfalls.com/events/details/brewers-fest-2017-42817
END:VEVENT

END:VCALENDAR
