BEGIN:VCALENDAR
VERSION:2.0
PRODID:-//ChamberMaster//Event Calendar 2.0//EN
METHOD:PUBLISH
X-PUBLISHED-TTL:P3D
REFRESH-INTERVAL:P3D
CALSCALE:GREGORIAN
BEGIN:VEVENT
DTSTART:20151017T000000Z
DTEND:20151017T030000Z
X-MICROSOFT-CDO-ALLDAYEVENT:FALSE
SUMMARY:Brewers Festival
DESCRIPTION:Sample the very best from area wine and beer makers. Great food and silent auction. Proceeds benefit the Otter Tail County Historical Society.
X-ALT-DESC;FMTTYPE=text/html:Sample the very best from area wine and beer makers. Great food and silent auction. Proceeds benefit the Otter Tail County Historical Society.
LOCATION:Fergus Falls VFW
UID:e.314.24448
SEQUENCE:3
DTSTAMP:20260426T030136Z
URL:https://business.fergusfalls.com/events/details/brewers-festival-10-16-2015-24448
END:VEVENT

END:VCALENDAR
