BEGIN:VCALENDAR
VERSION:2.0
PRODID:-//ChamberMaster//Event Calendar 2.0//EN
METHOD:PUBLISH
X-PUBLISHED-TTL:P3D
REFRESH-INTERVAL:P3D
CALSCALE:GREGORIAN
BEGIN:VEVENT
DTSTART:20181013T000000Z
DTEND:20181013T030000Z
X-MICROSOFT-CDO-ALLDAYEVENT:FALSE
SUMMARY:Brewers Festival 2018
DESCRIPTION:Brewers Festival 2018\n\nThe OTCHS annual Brewers Festival will be held on Friday\, October 12\, 7-10 p.m. at the VFW in Fergus Falls.\n\n\n\nOne of the area's unique events\, the Brewers Fest bring together a wide variety of beer and wine makers for an evening of tasting. A single admission opens the evening to a scintillating array of sweet\, fruity and dry wines as well as ales\, bocks and stouts. Cleanse your palate with tasty hors d'oeuvres and then peruse the silent auction for your favorite bottle of wine or beer.\n\n\n\nThe OTCHS Brewers Fest is a celebration of fall and the bounty of harvest. Advance tickets will be available soon for $12 per person. Admission at the door is $15 per person. No one under 21 will be admitted.\n\n\n\nIf you are interested in being a wine or beer vendor please contact Chris at 218-736-6038.
X-ALT-DESC;FMTTYPE=text/html:<strong>Brewers Festival 2018</strong><br />\n<span>The OTCHS annual Brewers Festival will be held on Friday\, October 12\, 7-10 p.m. at the VFW in Fergus Falls.<br />\n<br />\nOne of the area&rsquo\;s unique events\, the Brewers Fest bring together a wide variety of beer and wine makers for an evening of tasting. A single admission opens the evening to a scintillating array of sweet\, fruity and dry wines as well as ales\, bocks and stouts. Cleanse your palate with tasty hors d&rsquo\;oeuvres and then peruse the silent auction for your favorite bottle of wine or beer.<br />\n<br />\nThe OTCHS Brewers Fest is a celebration of fall and the bounty of harvest. Advance tickets will be available soon for $12 per person. Admission at the door is $15 per person. No one under 21 will be admitted.<br />\n<br />\nIf you are interested in being a wine or beer vendor please contact Chris at 218-736-6038.</span><br />\n&nbsp\;
LOCATION:Fergus Falls VFW 420 E Washington Ave
UID:e.314.50403
SEQUENCE:3
DTSTAMP:20260423T150814Z
URL:https://business.fergusfalls.com/events/details/brewers-festival-2018-50403
END:VEVENT

END:VCALENDAR
