BEGIN:VCALENDAR
VERSION:2.0
PRODID:-//ChamberMaster//Event Calendar 2.0//EN
METHOD:PUBLISH
X-PUBLISHED-TTL:P3D
REFRESH-INTERVAL:P3D
CALSCALE:GREGORIAN
BEGIN:VEVENT
DTSTART:20160124T180000Z
DTEND:20160124T210000Z
X-MICROSOFT-CDO-ALLDAYEVENT:FALSE
SUMMARY:Bridal Gala
DESCRIPTION:Come out and see all that the area wedding vendors have to offer this coming season. Fashion show\, door prizes and a grand prize of $500 to a lucky bride.
X-ALT-DESC;FMTTYPE=text/html:<span style="font-size: 16px\;">Come out and see all that the area wedding vendors have to offer this coming season. Fashion show\, door prizes and a grand prize of <strong><span style="color: rgb(0\, 128\, 0)\;">$500 </span></strong>to a lucky bride.</span>
LOCATION:Bigwood Event Center
UID:e.314.27364
SEQUENCE:3
DTSTAMP:20260425T214647Z
URL:https://business.fergusfalls.com/events/details/bridal-gala-01-24-2016-27364
END:VEVENT

END:VCALENDAR
