BEGIN:VCALENDAR
VERSION:2.0
PRODID:-//ChamberMaster//Event Calendar 2.0//EN
METHOD:PUBLISH
X-PUBLISHED-TTL:P3D
REFRESH-INTERVAL:P3D
CALSCALE:GREGORIAN
BEGIN:VEVENT
DTSTART:20160206T150000Z
DTEND:20160206T220000Z
X-MICROSOFT-CDO-ALLDAYEVENT:FALSE
SUMMARY:BUILD-CON 2016 presented by Leighton Broadcasting
DESCRIPTION:Your opportunity to talk with exhibitors from every aspect of the building industry.  Register to Win $2\,000 in "BuildCon" dollars -- redeemable at any BuildCon Exhibitor!\n\nExhibitors include these Chamber members:\n\nAmerican National Bank of MN\n\nLake Region Electric\n\nStenerson Lumber\n\nUgstad Plumbing & Heating\n\nFergus Home & Hardware\n\nOttertail Glass\n\nKinetico - The Water Doctor\n\nAgassiz Granite Tops\n\nPro Build
X-ALT-DESC;FMTTYPE=text/html:Your opportunity to talk with exhibitors from every aspect of the building industry.&nbsp\; Register to Win $2\,000 in &quot\;BuildCon&quot\; dollars -- redeemable at any BuildCon Exhibitor!<br />\nExhibitors include these Chamber members:<br />\nAmerican National Bank of MN<br />\nLake Region Electric<br />\nStenerson Lumber<br />\nUgstad Plumbing &amp\; Heating<br />\nFergus Home &amp\; Hardware<br />\nOttertail Glass<br />\nKinetico - The Water Doctor<br />\nAgassiz Granite Tops<br />\nPro Build
LOCATION:WestRidge Mall\, Fergus Falls
UID:e.314.30703
SEQUENCE:3
DTSTAMP:20260425T200703Z
URL:https://business.fergusfalls.com/events/details/build-con-2016-presented-by-leighton-broadcasting-02-06-2016-30703
END:VEVENT

END:VCALENDAR
