BEGIN:VCALENDAR
VERSION:2.0
PRODID:-//ChamberMaster//Event Calendar 2.0//EN
METHOD:PUBLISH
X-PUBLISHED-TTL:P3D
REFRESH-INTERVAL:P3D
CALSCALE:GREGORIAN
BEGIN:VEVENT
DTSTART:20170204T150000Z
DTEND:20170204T210000Z
X-MICROSOFT-CDO-ALLDAYEVENT:FALSE
SUMMARY:BUILD-CON 2017 presented by Leighton Broadcasting
DESCRIPTION:Your opportunity to talk with exhibitors from every aspect of the building industry.  Plan your building\, remodeling or projects with these local professionals! Register to Win $2\,000 in "BuildCon" dollars -- redeemable at any BuildCon Exhibitor!\n\nExhibitors include these Chamber members:\n\n	Lake Region Electric Coop\n	Ugstad Plumbing & Heating\n	Fergus Home & Hardware\n	Ottertail Glass\n	Kinetico - The Water Doctor\n	Agassiz Granite Tops\n	Ottertail Glass\n	Gate City Bank\n	Lindsay EcoWater\n	Iverson Garage Door\n	ServPro of Otter Tail and Douglas Counties\n\n\n\nPlus ABC Seamless\, Western Products\, Cornerstone Countertops\, Ripley's Inc Gravel Division\, EZ Open Garage Doors\, Otter Tail County Solid Waste\, EJ's Flooring\, Lakeside lumber\, Innovative Basement\, Precision Landscape & Irrigation\, Lake Country Concrete & Basement Drainage\, Foam It\, Peak Performance\, LTP Well Drilling\, Northland Building\, Wood Specialists\, Inc.
X-ALT-DESC;FMTTYPE=text/html:Your opportunity to talk with exhibitors from every aspect of the building industry. &nbsp\;Plan your building\, remodeling or projects with these local professionals! Register to Win $2\,000 in &quot\;BuildCon&quot\; dollars -- redeemable at any BuildCon Exhibitor!<br />\nExhibitors include these Chamber members:\n<ul>\n	<li><span style="font-size:16px\;"><strong>Lake Region Electric Coop</strong></span></li>\n	<li><span style="font-size:16px\;"><strong>Ugstad Plumbing &amp\; Heating</strong></span></li>\n	<li><span style="font-size:16px\;"><strong>Fergus Home &amp\; Hardware</strong></span></li>\n	<li><span style="font-size:16px\;"><strong>Ottertail Glass</strong></span></li>\n	<li><span style="font-size:16px\;"><strong>Kinetico - The Water Doctor</strong></span></li>\n	<li><span style="font-size:16px\;"><strong>Agassiz Granite Tops</strong></span></li>\n	<li><span style="font-size:16px\;"><strong>Ottertail Glass</strong></span></li>\n	<li><span style="font-size:16px\;"><strong>Gate City Bank</strong></span></li>\n	<li><span style="font-size: 16px\;"><b>Lindsay EcoWater</b></span></li>\n	<li><span style="font-size:16px\;"><strong>Iverson Garage Door</strong></span></li>\n	<li><span style="font-size:16px\;"><strong>ServPro of Otter Tail and Douglas Counties</strong></span></li>\n</ul>\n<br />\nPlus ABC Seamless\, Western Products\, Cornerstone Countertops\, Ripley&#39\;s Inc Gravel Division\, EZ Open Garage Doors\, Otter Tail County Solid Waste\, EJ&#39\;s Flooring\, Lakeside lumber\, Innovative Basement\, Precision Landscape &amp\; Irrigation\, Lake Country Concrete &amp\; Basement Drainage\, Foam It\, Peak Performance\, LTP Well Drilling\, Northland Building\, Wood Specialists\, Inc.&nbsp\;
LOCATION:WestRidge Mall\, Fergus Falls
UID:e.314.38272
SEQUENCE:3
DTSTAMP:20260424T224652Z
URL:https://business.fergusfalls.com/events/details/build-con-2017-presented-by-leighton-broadcasting-38272
END:VEVENT

END:VCALENDAR
