BEGIN:VCALENDAR
VERSION:2.0
PRODID:-//ChamberMaster//Event Calendar 2.0//EN
METHOD:PUBLISH
X-PUBLISHED-TTL:P3D
REFRESH-INTERVAL:P3D
CALSCALE:GREGORIAN
BEGIN:VEVENT
DTSTART:20210715T140000Z
DTEND:20210715T160000Z
X-MICROSOFT-CDO-ALLDAYEVENT:FALSE
SUMMARY:Building a Dynamic Team - Virtual Seminar!
DESCRIPTION:How do you take your team from "good" to DYNAMIC?\n\nIn today's environment\, hiring new employees is not easy. So why not invest in developing your current team to help your organization achieve higher productivity and growth?\n\n\n\nFor only $49.00\, you will learn how to: \n\n\n	Recruit and Hire All Star Players\n	Coach for Success\n	Build and Maintain Team Chemistry\n	Initiate effective Timeouts\, 3 Strikes\, and Personnel Changes\n\n\nNatalie Remund\, Chief Business Development Officer for Multi Business Solutions\, will be walking you through the key components to Building a Dynamic Team. Natalie brings over ten years of diverse management and training experience to the MBS Team\, along with a passion for improvement. \n\n\n\nTo find out more information and to register\, click here.
X-ALT-DESC;FMTTYPE=text/html:<h1>How do you take your team from &quot\;good&quot\; to DYNAMIC?</h1>\n\n<p>In today&#39\;s environment\, hiring new employees is not easy. So why not invest in developing your current team to help your organization&nbsp\;achieve higher productivity and growth?<br />\n<br />\nFor only $49.00\, you will learn how to:&nbsp\;</p>\n\n<ul>\n	<li>Recruit&nbsp\;and Hire&nbsp\;All Star Players</li>\n	<li>Coach for Success</li>\n	<li>Build&nbsp\;and Maintain&nbsp\;Team Chemistry</li>\n	<li>Initiate effective Timeouts\, 3 Strikes\, and Personnel Changes</li>\n</ul>\n\n<p>Natalie Remund\, Chief Business Development Officer for Multi Business Solutions\, will be walking you through the key components to Building a Dynamic Team. Natalie brings over ten years of diverse management and training experience to the MBS Team\, along with a passion for improvement.&nbsp\;<br />\n<br />\nTo find out more information and to register\,&nbsp\;<a href="https://mnscu.rschooltoday.com/public/costoption/class_id/186387/public/1/sp/"><u>click here</u></a><a href="https://mnscu.rschooltoday.com/public/costoption/class_id/186387/public/1/sp/">.&nbsp\;</a></p>\n
LOCATION:Virtual with Live Instructor
UID:e.314.62448
SEQUENCE:3
DTSTAMP:20260421T110237Z
URL:https://business.fergusfalls.com/events/details/building-a-dynamic-team-virtual-seminar-62448
END:VEVENT

END:VCALENDAR
