BEGIN:VCALENDAR
VERSION:2.0
PRODID:-//ChamberMaster//Event Calendar 2.0//EN
METHOD:PUBLISH
X-PUBLISHED-TTL:P3D
REFRESH-INTERVAL:P3D
CALSCALE:GREGORIAN
BEGIN:VEVENT
DTSTART:20241002T150000Z
DTEND:20241002T170000Z
X-MICROSOFT-CDO-ALLDAYEVENT:FALSE
SUMMARY:Building Trust Through Communication and Conflict
DESCRIPTION:This course will help the participant gain the knowledge and skills required to be a successful leader and build a high-performing\, engaged work team. This course consists of two sessions: Staying in Dialogue and From Dialogue to Action. Both sessions with will be highly interactive with experiential activities and debriefs that illustrate key theories and techniques. Participants will practice theories and techniques using realistic\, job-related examples.
X-ALT-DESC;FMTTYPE=text/html:This course will help the participant gain the knowledge and skills required to be a successful leader and build a high-performing\, engaged work team. This course consists of two sessions: Staying in Dialogue and From Dialogue to Action. Both sessions with will be highly interactive with experiential activities and debriefs that illustrate key theories and techniques. Participants will practice theories and techniques using realistic\, job-related examples.
LOCATION:Virtual via Zoom
UID:e.314.72079
SEQUENCE:3
DTSTAMP:20260419T170505Z
URL:https://business.fergusfalls.com/events/details/building-trust-through-communication-and-conflict-10-02-2024-72079
END:VEVENT

END:VCALENDAR
