BEGIN:VCALENDAR
VERSION:2.0
PRODID:-//ChamberMaster//Event Calendar 2.0//EN
METHOD:PUBLISH
X-PUBLISHED-TTL:P3D
REFRESH-INTERVAL:P3D
CALSCALE:GREGORIAN
BEGIN:VEVENT
DTSTART:20160824T173000Z
DTEND:20160824T203000Z
X-MICROSOFT-CDO-ALLDAYEVENT:FALSE
SUMMARY:Business Bulb Collection - OTC Solid Waste
DESCRIPTION:Otter Tail County Solid Waste will be accepting business florescent bulbs for ONE DAY ONLY. Businesses will be charged the cost for recycling.\n\n\n\nTubes 4 feet or less = $0.14 each.\n\nTubes   4 feet = $0.28 each.\n\n*Prices vary on other bulbs.\n\n\n\nPlease have your bulbs packaged and counted prior to coming to the drop off.\n\n\n\nTips for transporting your bulbs for safe disposal.\n\n	Handle with care:\n	\n		Be careful when handling and transporting fluorescent bulbs to avoid breakage and exposure to mercury.\n	\n	\n	Storing:\n	\n		To avoid breaking bulbs\, store them in their original packaging.\n	\n	\n	Transporting:\n	\n		When transporting fluorescent bulbs for recycling\, repack them in their original packaging. Please do not tape them. Place in a box to prevent breakage.\n	\n	\n\n*For more information\, call 218-736-2161
X-ALT-DESC;FMTTYPE=text/html:Otter Tail County Solid Waste will be accepting business florescent bulbs for <strong>ONE DAY ONLY. </strong>Businesses will be charged the cost for recycling.<br />\n<br />\n<strong>Tubes 4 feet or less = $0.14 each.<br />\nTubes &gt\; 4 feet = $0.28 each.</strong><br />\n*Prices vary on other bulbs.<br />\n<br />\n<strong>Please have your bulbs packaged and counted prior to coming to the drop off.</strong><br />\n<br />\nTips for transporting your bulbs for safe disposal.\n<ul>\n	<li>Handle with care:\n	<ul>\n		<li>Be careful when handling and transporting fluorescent bulbs to avoid breakage and exposure to mercury.</li>\n	</ul>\n	</li>\n	<li>Storing:\n	<ul>\n		<li>To avoid breaking bulbs\, store them in their original packaging.</li>\n	</ul>\n	</li>\n	<li>Transporting:\n	<ul>\n		<li>When transporting fluorescent bulbs for recycling\, repack them in their original packaging. Please do not tape them. Place in a box to prevent breakage.</li>\n	</ul>\n	</li>\n</ul>\n*For more information\, call 218-736-2161
LOCATION:Fergus Falls Transfer Station\, 275 Airport Dr. (West of Walmart) Fergus Falls\, MN 56537
UID:e.314.33008
SEQUENCE:3
DTSTAMP:20260425T110053Z
URL:https://business.fergusfalls.com/events/details/business-bulb-collection-otc-solid-waste-08-24-2016-33008
END:VEVENT

END:VCALENDAR
