BEGIN:VCALENDAR
VERSION:2.0
PRODID:-//ChamberMaster//Event Calendar 2.0//EN
METHOD:PUBLISH
X-PUBLISHED-TTL:P3D
REFRESH-INTERVAL:P3D
CALSCALE:GREGORIAN
BEGIN:VEVENT
DTSTART:20200625T123000Z
DTEND:20200625T133000Z
X-MICROSOFT-CDO-ALLDAYEVENT:FALSE
SUMMARY:Business for Breakfast: 'Chamber 2020 - It's Not What It Used To Be. Find out 'What's In It For Me?"
DESCRIPTION:Join us for a virtual Business for Breakfast on Thursday\, June 25th at 7:30 am via Facebook Live from Fabled Farmer. You can choose if you want to join us in-person OR participate via live stream!\n\n\n\nThe topic is 'Chamber 2020 - It's Not What It Used To Be. Find out 'What's In It For Me?" This will be led by Chamber President Lisa Workman and will explain:\n\n\n\n* $50\,000 Small Business Boost\, its' impact and how it works\n\n* Chamber Events   physical & virtual   what's on & what's off\n\n* IDEA generator   we will do a drawing for attendees for $100\n\nFergus Bucks.\n\n\n\nSubmit questions and ideas at greaterfergusfalls.com/b4b and continue supporting our local restaurants by ordering breakfast\, delivery if possible\, during this live event.\n\n----------\n\nBusiness for Breakfast will be held monthly and varying restaurants throughout the community. The intention is to cultivate a greater sense of what GFF is\, provide a fundamental base of economic development processes\, and to foster collaborative partnerships.\n\n\n\nThis breakfast will be recurring\, and the topic and location will be announced a few days beforehand. Topics will include Economic Development 101\, Grant Funding for Employee Training\, Starting a Business 101\, Redeveloping Big Box Sites 101 and more.\n\nSee Less
X-ALT-DESC;FMTTYPE=text/html:<div>\n<div><span style="font-family:inherit">Join us for a virtual Business for Breakfast on Thursday\, June 25th at 7:30 am via Facebook Live from Fabled Farmer. You can choose if you want to join us in-person OR participate via live stream!<br />\n<br />\nThe topic is &#39\;Chamber 2020 - It&#39\;s Not What It Used To Be. Find out &#39\;What&#39\;s In It For Me?&quot\; This will be led by Chamber President Lisa Workman and will explain:<br />\n<br />\n* $50\,000 Small Business Boost\, its&#39\; impact and how it works<br />\n* Chamber Events &ndash\; physical &amp\; virtual &ndash\; what&rsquo\;s on &amp\; what&rsquo\;s off<br />\n* IDEA generator &ndash\; we will do a drawing for attendees for $100<br />\nFergus Bucks.<br />\n<br />\nSubmit questions and ideas at <a href="https://l.facebook.com/l.php?u=http%3A%2F%2Fgreaterfergusfalls.com%2Fb4b%3Ffbclid%3DIwAR0_GA_IszFPkBSWn8A0rFbHoQNiqSnAeL1OGhyy6TF4Tht1A9sn91Y6njk&amp\;h=AT3K-XYkVIXLdxbHAPL7CcOuoERNIRZDVlHvsQ_AM9ArJvkUaaswl3Axy8EpVHf9eQYSs3qgBKax_QydtQ0A1Rg5FzfO8yRGe-_Doshg5LxKuuyhcWd8KnlwYgDqKeLkFQ" rel="nofollow noopener" style="color: rgb(56\, 88\, 152)\; cursor: pointer\; text-decoration-line: none\; font-family: inherit\;" target="_blank">greaterfergusfalls.com/b4b</a> and continue supporting our local restaurants by ordering breakfast\, delivery if possible\, during this live event.<br />\n----------<br />\nBusiness for Breakfast will be held monthly and varying restaurants throughout the community. The intention is to cultivate a greater sense of what GFF is\, provide a fundamental base of economic development processes\, and to foster collaborative partnerships.<br />\n<br />\nThis breakfast will be recurring\, and the topic and location will be announced a few days beforehand. Topics will include Economic Development 101\, Grant Funding for Employee Training\, Starting a Business 101\, Redeveloping Big Box Sites 101 and more.</span></div>\n</div>\n<a class="_63eo" href="https://www.facebook.com/events/483539628928079/#" style="color: rgb(56\, 88\, 152)\; cursor: pointer\; text-decoration-line: none\; background-image: initial\; background-position: initial\; background-size: initial\; background-repeat: initial\; background-attachment: initial\; background-origin: initial\; background-clip: initial\; border-top: 1px solid rgb(235\, 237\, 240)\; display: block\; padding: 12px 0px\; text-align: center\; font-family: Helvetica\, Arial\, sans-serif\; font-size: 12px\;"><span style="font-family:inherit">See Less</span></a>
LOCATION:Facebook Live @GreaterFF and The Fabled Farmer
UID:e.314.57547
SEQUENCE:3
DTSTAMP:20260422T084157Z
URL:https://business.fergusfalls.com/events/details/business-for-breakfast-chamber-2020-it-s-not-what-it-used-to-be-find-out-what-s-in-it-for-me-57547
END:VEVENT

END:VCALENDAR
