BEGIN:VCALENDAR
VERSION:2.0
PRODID:-//ChamberMaster//Event Calendar 2.0//EN
METHOD:PUBLISH
X-PUBLISHED-TTL:P3D
REFRESH-INTERVAL:P3D
CALSCALE:GREGORIAN
BEGIN:VEVENT
DTSTART:20191219T133000Z
DTEND:20191219T143000Z
X-MICROSOFT-CDO-ALLDAYEVENT:FALSE
SUMMARY:Business for Breakfast - Greater Fergus Falls
DESCRIPTION:Business for Breakfast will be held monthly and varying restaurants throughout the community. The intention is to cultivate a greater sense of what GFF is\, provide a fundamental base of economic development processes\, and to foster collaborative partnerships. This breakfast will be recurring\, and the topic and location will be announced a few days beforehand. Topics will include Economic Development 101\, Grant Funding for Employee Training\, Starting a Business 101\, Redeveloping Big Box Sites 101 and more
X-ALT-DESC;FMTTYPE=text/html:<span style="background-color:rgb(255\, 255\, 255)\; color:rgb(144\, 148\, 156)\; font-family:helvetica\,arial\,sans-serif\; font-size:12px">Business for Breakfast will be held monthly and varying restaurants throughout the community. The intention is to cultivate a greater sense of what GFF is\, provide a fundamental base of economic development processes\, and to foster collaborative partnerships. This breakfast will be recurring\, and the topic and location will be announced a few days beforehand. Topics will include Economic Development 101\, Grant Funding for Employee Training\, Starting a Business 101\, Redeveloping Big Box Sites 101 and more</span>
LOCATION:The Fabled Farmer
UID:e.314.56002
SEQUENCE:3
DTSTAMP:20260422T185325Z
URL:https://business.fergusfalls.com/events/details/business-for-breakfast-greater-fergus-falls-56002
END:VEVENT

END:VCALENDAR
