BEGIN:VCALENDAR
VERSION:2.0
PRODID:-//ChamberMaster//Event Calendar 2.0//EN
METHOD:PUBLISH
X-PUBLISHED-TTL:P3D
REFRESH-INTERVAL:P3D
CALSCALE:GREGORIAN
BEGIN:VEVENT
DTSTART:20160719T123000Z
DTEND:20160719T133000Z
X-MICROSOFT-CDO-ALLDAYEVENT:FALSE
SUMMARY:Business Information Session hosted by M State & EIC
DESCRIPTION:M State & Economic Improvement Commission Business Information Session\n\nIn an effort to boost communication and strengthen relationships with local businesses the EIC and M State are partnering to present innovative developments and open dialog.\n\nTopics to be covered by M State include:\n\n Mobile training units  Welding\, Safety\, Precision Manufacturing and CDL\n\n Workplace Readiness for English Language Learners\n\n Opportunities for businesses to serve on Advisory Committees\n\n Partnerships with K12 schools\n\n Industrial Workplace Readiness Certificate\n\n How Custom Training Offerings have been used by employers in Fergus Falls\n\nTopics to be covered by Economic Improvement Commission (EIC) include:\n\n Resources and services available to businesses\n\nPlease join us! A light breakfast will be served.\n\nRSVP to Amy Hochgraber\, M State: 218-846-3766
X-ALT-DESC;FMTTYPE=text/html:M State &amp\; Economic Improvement Commission Business Information Session<br />\nIn an effort to boost communication and strengthen relationships with local businesses the EIC and M State are partnering to present innovative developments and open dialog.<br />\nTopics to be covered by M State include:<br />\n&bull\;Mobile training units &ndash\;Welding\, Safety\, Precision Manufacturing and CDL<br />\n&bull\;Workplace Readiness for English Language Learners<br />\n&bull\;Opportunities for businesses to serve on Advisory Committees<br />\n&bull\;Partnerships with K12 schools<br />\n&bull\;Industrial Workplace Readiness Certificate<br />\n&bull\;How Custom Training Offerings have been used by employers in Fergus Falls<br />\nTopics to be covered by Economic Improvement Commission (EIC) include:<br />\n&bull\;Resources and services available to businesses<br />\nPlease join us! A light breakfast will be served.<br />\nRSVP to Amy Hochgraber\, M State: 218-846-3766
LOCATION:M State Fergus Falls Legacy Hall
UID:e.314.32935
SEQUENCE:3
DTSTAMP:20260425T105955Z
URL:https://business.fergusfalls.com/events/details/business-information-session-hosted-by-m-state-eic-07-19-2016-32935
END:VEVENT

END:VCALENDAR
