BEGIN:VCALENDAR
VERSION:2.0
PRODID:-//ChamberMaster//Event Calendar 2.0//EN
METHOD:PUBLISH
X-PUBLISHED-TTL:P3D
REFRESH-INTERVAL:P3D
CALSCALE:GREGORIAN
BEGIN:VEVENT
DTSTART:20191209T140000Z
DTEND:20191209T160000Z
X-MICROSOFT-CDO-ALLDAYEVENT:FALSE
SUMMARY:Business Training: Being a Facebook Page Owner
DESCRIPTION:SAVE THE DATE!\n\n\n\nIn partnership with M State Fergus Falls through a grant provided by the West Central Initiative\, we are partnering to host a series of trainings and educational events for Fergus Falls area businesses.\n\n\n\nPlease watch the event page for registration information\, coming soon.\n\n\n\nEvery business has a FB page right? How can you tell what's working and what's not? What numbers actually matter? Learn the do's\, the don'ts and the things you can do to control and improve the performance of your page. Ample time will be reserved for Q&A.\n\n\n\n-Create settings\n\n-Page Roles\n\n-Key tools\n\n-Interpreting analytics\n\n-Basic Ad Spend\n\n\n\nClass limited to 20 participants - please bring your laptops!
X-ALT-DESC;FMTTYPE=text/html:<span style="color: rgb(29\, 33\, 41)\; font-family: helvetica\,arial\,sans-serif\; font-size: 14px\;">SAVE THE DATE!</span><br />\n<br />\n<span style="color: rgb(29\, 33\, 41)\; font-family: helvetica\,arial\,sans-serif\; font-size: 14px\;">In partnership with </span><a href="https://www.facebook.com/fergusfallsmstate/" style="color: rgb(56\, 88\, 152)\; font-family: Helvetica\, Arial\, sans-serif\; font-size: 14px\; white-space: pre-wrap\; cursor: pointer\; text-decoration-line: none\;" target="_blank">M State Fergus Falls</a><span style="color: rgb(29\, 33\, 41)\; font-family: helvetica\,arial\,sans-serif\; font-size: 14px\;"> through a grant provided by the </span><a href="https://www.facebook.com/westcentralinitiative/" style="color: rgb(56\, 88\, 152)\; font-family: Helvetica\, Arial\, sans-serif\; font-size: 14px\; white-space: pre-wrap\; cursor: pointer\; text-decoration-line: none\;" target="_blank">West Central Initiative</a><span style="color: rgb(29\, 33\, 41)\; font-family: helvetica\,arial\,sans-serif\; font-size: 14px\;">\, we are partnering to host a series of trainings and educational events for Fergus Falls area businesses.</span><br />\n<br />\n<span style="color: rgb(29\, 33\, 41)\; font-family: helvetica\,arial\,sans-serif\; font-size: 14px\;">Please watch the event page for registration information\, coming soon.</span><br />\n<br />\n<span style="color: rgb(29\, 33\, 41)\; font-family: helvetica\,arial\,sans-serif\; font-size: 14px\;">Every business has a FB page right? How can you tell what&#39\;s working and what&#39\;s not? What numbers actually matter? Learn the do&#39\;s\, the don&#39\;ts and the things you can do to control and improve the performance of your page. Ample time will be reserved for Q&amp\;A.</span><br />\n<br />\n<span style="color: rgb(29\, 33\, 41)\; font-family: helvetica\,arial\,sans-serif\; font-size: 14px\;">-Create settings</span><br />\n<span style="color: rgb(29\, 33\, 41)\; font-family: helvetica\,arial\,sans-serif\; font-size: 14px\;">-Page Roles</span><br />\n<span style="color: rgb(29\, 33\, 41)\; font-family: helvetica\,arial\,sans-serif\; font-size: 14px\;">-Key tools</span><br />\n<span style="color: rgb(29\, 33\, 41)\; font-family: helvetica\,arial\,sans-serif\; font-size: 14px\;">-Interpreting analytics</span><br />\n<span style="color: rgb(29\, 33\, 41)\; font-family: helvetica\,arial\,sans-serif\; font-size: 14px\;">-Basic Ad Spend</span><br />\n<br />\n<span style="color: rgb(29\, 33\, 41)\; font-family: helvetica\,arial\,sans-serif\; font-size: 14px\;">Class limited to 20 participants - please bring your laptops!</span>
LOCATION:Lakes Country Service Cooperative 1001 E. Mount Faith Ave
UID:e.314.54653
SEQUENCE:3
DTSTAMP:20260422T171728Z
URL:https://business.fergusfalls.com/events/details/business-training-being-a-facebook-page-owner-54653
END:VEVENT

END:VCALENDAR
