BEGIN:VCALENDAR
VERSION:2.0
PRODID:-//ChamberMaster//Event Calendar 2.0//EN
METHOD:PUBLISH
X-PUBLISHED-TTL:P3D
REFRESH-INTERVAL:P3D
CALSCALE:GREGORIAN
BEGIN:VEVENT
DTSTART:20191125T140000Z
DTEND:20191125T170000Z
X-MICROSOFT-CDO-ALLDAYEVENT:FALSE
SUMMARY:Business Training: Creating a Social Media Strategy
DESCRIPTION:SAVE THE DATE!\n\n\n\nIn partnership with M State Fergus Falls through a grant provided by the West Central Initiative\, we are partnering to host a series of trainings and educational events for Fergus Falls area businesses.\n\n\n\nPlease watch the event page for registration information\, coming soon.\n\n\n\nRunning out of clever memes and cat videos? What are you going to post tomorrow\, next week\, next month and why? Attendees will learn the ins and outs of developing a tailor made social strategy that drives results and action. Then you'll see some tips\, tricks and tools used by successful profiles and campaigns. Ample time will be reserved for Q&A.\n\n\n\n-Planning\n\n-Ideas\n\n-Implementation\n\n-Tips\, tricks and tools\n\n-Platforms discussed will be Facebook\, Instagram\, LinkedIn\, and Twitter\n\n\n\nClass limited to 20 participants - please bring your laptops!
X-ALT-DESC;FMTTYPE=text/html:<span style="color:rgb(29\, 33\, 41)\; font-family:helvetica\,arial\,sans-serif\; font-size:14px">SAVE THE DATE!</span><br />\n<br />\n<span style="color:rgb(29\, 33\, 41)\; font-family:helvetica\,arial\,sans-serif\; font-size:14px">In partnership with </span><a href="https://www.facebook.com/fergusfallsmstate/" style="color: rgb(56\, 88\, 152)\; cursor: pointer\; text-decoration-line: none\; font-family: Helvetica\, Arial\, sans-serif\; font-size: 14px\; white-space: pre-wrap\;" target="_blank">M State Fergus Falls</a><span style="color:rgb(29\, 33\, 41)\; font-family:helvetica\,arial\,sans-serif\; font-size:14px"> through a grant provided by the </span><a href="https://www.facebook.com/westcentralinitiative/" style="color: rgb(56\, 88\, 152)\; cursor: pointer\; text-decoration-line: none\; font-family: Helvetica\, Arial\, sans-serif\; font-size: 14px\; white-space: pre-wrap\;" target="_blank">West Central Initiative</a><span style="color:rgb(29\, 33\, 41)\; font-family:helvetica\,arial\,sans-serif\; font-size:14px">\, we are partnering to host a series of trainings and educational events for Fergus Falls area businesses.</span><br />\n<br />\n<span style="color:rgb(29\, 33\, 41)\; font-family:helvetica\,arial\,sans-serif\; font-size:14px">Please watch the event page for registration information\, coming soon.</span><br />\n<br />\n<span style="color:rgb(29\, 33\, 41)\; font-family:helvetica\,arial\,sans-serif\; font-size:14px">Running out of clever memes and cat videos? What are you going to post tomorrow\, next week\, next month and why? Attendees will learn the ins and outs of developing a tailor made social strategy that drives results and action. Then you&#39\;ll see some tips\, tricks and tools used by successful profiles and campaigns. Ample time will be reserved for Q&amp\;A.</span><br />\n<br />\n<span style="color:rgb(29\, 33\, 41)\; font-family:helvetica\,arial\,sans-serif\; font-size:14px">-Planning</span><br />\n<span style="color:rgb(29\, 33\, 41)\; font-family:helvetica\,arial\,sans-serif\; font-size:14px">-Ideas</span><br />\n<span style="color:rgb(29\, 33\, 41)\; font-family:helvetica\,arial\,sans-serif\; font-size:14px">-Implementation</span><br />\n<span style="color:rgb(29\, 33\, 41)\; font-family:helvetica\,arial\,sans-serif\; font-size:14px">-Tips\, tricks and tools</span><br />\n<span style="color:rgb(29\, 33\, 41)\; font-family:helvetica\,arial\,sans-serif\; font-size:14px">-Platforms discussed will be Facebook\, Instagram\, LinkedIn\, and Twitter</span><br />\n<br />\n<span style="color:rgb(29\, 33\, 41)\; font-family:helvetica\,arial\,sans-serif\; font-size:14px">Class limited to 20 participants - please bring your laptops!</span>
LOCATION:Lakes Country Service Cooperative 1001 E. Mount Faith Ave
UID:e.314.54654
SEQUENCE:3
DTSTAMP:20260422T190040Z
URL:https://business.fergusfalls.com/events/details/business-training-creating-a-social-media-strategy-54654
END:VEVENT

END:VCALENDAR
