BEGIN:VCALENDAR
VERSION:2.0
PRODID:-//ChamberMaster//Event Calendar 2.0//EN
METHOD:PUBLISH
X-PUBLISHED-TTL:P3D
REFRESH-INTERVAL:P3D
CALSCALE:GREGORIAN
BEGIN:VEVENT
DTSTART:20200225T170000Z
DTEND:20200225T190000Z
X-MICROSOFT-CDO-ALLDAYEVENT:FALSE
SUMMARY:Business Training: How Small Businesses Can Compete to Attract & Retain Talent
DESCRIPTION:How Small Businesses Can Compete to Attract & Retain Talent\n\n\n\nAs a small business owner\, you might feel like you are a "small fish in a big pond" when it comes to attracting and retaining employees. It's normal to become discouraged when an employee leaves you to pursue an opportunity at a "larger company". Instead of looking at your size as a disadvantage\; however\, you need to turn the story around and focus on the advantages that you can offer as a smaller employer. We will share with you some benefit packages that small business can/should offer to attract employees and other "non-benefit" specific tips to help retain employees. Remember that there are more to great company benefits than a gym membership and a competitive salary.
X-ALT-DESC;FMTTYPE=text/html:<span style="font-size: 16px\;"><strong>How Small Businesses Can Compete to Attract &amp\; Retain Talent</strong></span><br />\n<br />\nAs a small business owner\, you might feel like you are a &ldquo\;small fish in a big pond&rdquo\; when it comes to attracting and retaining employees. It&rsquo\;s normal to become discouraged when an employee leaves you to pursue an opportunity at a &ldquo\;larger company&rdquo\;. Instead of looking at your size as a disadvantage\; however\, you need to turn the story around and focus on the advantages that you can offer as a smaller employer. We will share with you some benefit packages that small business can/should offer to attract employees and other &ldquo\;non-benefit&rdquo\; specific tips to help retain employees. Remember that there are more to great company benefits than a gym membership and a competitive salary.
LOCATION:M State Fergus Falls 1414 College Way Fergus Falls
UID:e.314.57212
SEQUENCE:3
DTSTAMP:20260422T143227Z
URL:https://business.fergusfalls.com/events/details/business-training-how-small-businesses-can-compete-to-attract-retain-talent-57212
END:VEVENT

END:VCALENDAR
