BEGIN:VCALENDAR
VERSION:2.0
PRODID:-//ChamberMaster//Event Calendar 2.0//EN
METHOD:PUBLISH
X-PUBLISHED-TTL:P3D
REFRESH-INTERVAL:P3D
CALSCALE:GREGORIAN
BEGIN:VEVENT
DTSTART:20190116T150000Z
DTEND:20190116T180000Z
X-MICROSOFT-CDO-ALLDAYEVENT:FALSE
SUMMARY:Buying a Business - The Time is Right - Business Training Event
DESCRIPTION:Fergus Falls Buying a Business - The Time is Right - Business Training Event\n\n\nBuying a Business is a wonderful way to join the entrepreneurial ranks. The timing has never been better - millions of businesses are changing hands due to the aging population. Learn the basics of how to find\, evaluate and pursue a business purchase.
X-ALT-DESC;FMTTYPE=text/html:<h1 id="evm-event-title"><span class="cc-var" title="">Fergus Falls Buying a Business - The Time is Right - Business Training Event</span></h1>\n\n<div class="cc-block" id="cc-block4">\n<p>Buying a Business is a wonderful way to join the entrepreneurial ranks. The timing has never been better - millions of businesses are changing hands due to the aging population. Learn the basics of how to find\, evaluate and pursue a business purchase.</p>\n</div>\n
LOCATION:West Central Initiative - Prairie Conference Room 1000 Western Ave Fergus Falls\, MN 56537
UID:e.314.52197
SEQUENCE:3
DTSTAMP:20260423T110046Z
URL:https://business.fergusfalls.com/events/details/buying-a-business-the-time-is-right-business-training-event-52197
END:VEVENT

END:VCALENDAR
