BEGIN:VCALENDAR
VERSION:2.0
PRODID:-//ChamberMaster//Event Calendar 2.0//EN
METHOD:PUBLISH
X-PUBLISHED-TTL:P3D
REFRESH-INTERVAL:P3D
CALSCALE:GREGORIAN
BEGIN:VEVENT
DTSTART:20170114T000000Z
DTEND:20170114T023000Z
X-MICROSOFT-CDO-ALLDAYEVENT:FALSE
SUMMARY:Cabinet Makeover Class With Fusion Mineral Paint
DESCRIPTION:Learn to Paint Your Cabinets with Our Fusion Mineral Paint!\n\nSarah Has Years of Experience Painting Cabinets & Custom Projects.\n\nWe are Excited to Share Her Expertise!!\n\n  Class is $50  \n\n1. Bring Your Cabinet Door\n\n(We Can Provide Too)\n\n2. Paint Clothes\n\n3. You
X-ALT-DESC;FMTTYPE=text/html:<span class="_4n-j _3cht fsl">Learn to Paint Your Cabinets with Our Fusion Mineral Paint!<br />\nSarah Has Years of Experience Painting Cabinets &amp\; Custom Projects.<br />\nWe are Excited to Share Her Expertise!!<br />\n&#55357\;&#56716\;Class is $50&#55357\;&#56716\;<br />\n1. Bring Your Cabinet Door<br />\n(We Can Provide Too)<br />\n2. Paint Clothes<br />\n3. You</span>
LOCATION:MiMi Rae's & AddyGrace 202 W Lincoln Ave\, Fergus Falls
UID:e.314.37255
SEQUENCE:3
DTSTAMP:20260425T003333Z
URL:https://business.fergusfalls.com/events/details/cabinet-makeover-class-with-fusion-mineral-paint-37255
END:VEVENT

END:VCALENDAR
