BEGIN:VCALENDAR
VERSION:2.0
PRODID:-//ChamberMaster//Event Calendar 2.0//EN
METHOD:PUBLISH
X-PUBLISHED-TTL:P3D
REFRESH-INTERVAL:P3D
CALSCALE:GREGORIAN
BEGIN:VEVENT
DTSTART:20151210T230000Z
DTEND:20151211T010000Z
X-MICROSOFT-CDO-ALLDAYEVENT:FALSE
SUMMARY:Calla Lily Designs 5th Anniversary Chamber & Customer "After Hours"
DESCRIPTION:Join us as we celebrate our 5 year Anniversary!\n\nWe want to THANK YOU & celebrate our customers at Calla Lily Designs for the incredible support they have given us. Join us for appetizers and refreshments at our studio. Who knows\, maybe there will be wine.
X-ALT-DESC;FMTTYPE=text/html:<span style="color:#000000\;">Join us as we celebrate our 5 year Anniversary!<br />\nWe want to THANK YOU&nbsp\;&amp\; celebrate&nbsp\;our&nbsp\;customers at Calla Lily Designs for the incredible support they have given us. Join us for appetizers and refreshments at our studio. Who knows\, maybe there will be wine.</span>
LOCATION:Calla Lily Designs 1215 North Union Avenue (near Lake Country Graphics & former Stop 'n Go) Fergus Falls
UID:e.314.27360
SEQUENCE:3
DTSTAMP:20260425T233141Z
URL:https://business.fergusfalls.com/events/details/calla-lily-designs-5th-anniversary-chamber-customer-after-hours-12-10-2015-27360
END:VEVENT

END:VCALENDAR
