BEGIN:VCALENDAR
VERSION:2.0
PRODID:-//ChamberMaster//Event Calendar 2.0//EN
METHOD:PUBLISH
X-PUBLISHED-TTL:P3D
REFRESH-INTERVAL:P3D
CALSCALE:GREGORIAN
BEGIN:VEVENT
DTSTART:20191012T140000Z
DTEND:20191012T200000Z
X-MICROSOFT-CDO-ALLDAYEVENT:FALSE
SUMMARY:Camp Emily
DESCRIPTION:Camp Emily is a Grief Support Day camp for youth ages 7-18 who have experienced the death of someone they loved. Newly bereaved as well as those who have been on the path of grief for some time are welcome. Parents or guardians are asked to attend and participate. All groups will be divided by age and facilitated by bereavement social workers and counselors. Meals and snacks are provided.
X-ALT-DESC;FMTTYPE=text/html:Camp Emily is a Grief Support Day camp for youth ages 7-18 who have experienced the death of someone they loved. Newly bereaved as well as those who have been on the path of grief for some time are welcome. Parents or guardians are asked to attend and participate. All groups will be divided by age and facilitated by bereavement social workers and counselors. Meals and snacks are provided.
LOCATION:LB Homes Offices Eisenhower Building 805 East Channing Ave Fergus Falls\, MN
UID:e.314.54577
SEQUENCE:3
DTSTAMP:20260422T221646Z
URL:https://business.fergusfalls.com/events/details/camp-emily-10-12-2019-54577
END:VEVENT

END:VCALENDAR
