BEGIN:VCALENDAR
VERSION:2.0
PRODID:-//ChamberMaster//Event Calendar 2.0//EN
METHOD:PUBLISH
X-PUBLISHED-TTL:P3D
REFRESH-INTERVAL:P3D
CALSCALE:GREGORIAN
BEGIN:VEVENT
DTSTART:20171014T140000Z
DTEND:20171014T200000Z
X-MICROSOFT-CDO-ALLDAYEVENT:FALSE
SUMMARY:Camp Emily
DESCRIPTION:Camp Emily is a regional day camp held each year through LB Hospice\, formerly Lakeland\, for youth ages 7-18 who have experienced the death of someone they loved. Age appropriate activities\, discussions and break-out sessions are provided along with meal breaks. All groups are facilitated by professionals trained in grief.
X-ALT-DESC;FMTTYPE=text/html:<span class="_4n-j _fbReactionComponent__eventDetailsContentTags fsl" data-testid="event-permalink-details">Camp Emily is a regional day camp held each year through LB Hospice\, formerly Lakeland\, for youth ages 7-18 who have experienced the death of someone they loved. Age appropriate activities\, discussions and break-out sessions are provided along with meal breaks. All groups are facilitated by professionals trained in grief.</span>
LOCATION:LB Homes 805 E Channing Ave Fergus Falls MN
UID:e.314.41613
SEQUENCE:3
DTSTAMP:20260424T091149Z
URL:https://business.fergusfalls.com/events/details/camp-emily-41613
END:VEVENT

END:VCALENDAR
