BEGIN:VCALENDAR
VERSION:2.0
PRODID:-//ChamberMaster//Event Calendar 2.0//EN
METHOD:PUBLISH
X-PUBLISHED-TTL:P3D
REFRESH-INTERVAL:P3D
CALSCALE:GREGORIAN
BEGIN:VEVENT
DTSTART:20160720T150000Z
DTEND:20160721T010000Z
X-MICROSOFT-CDO-ALLDAYEVENT:FALSE
SUMMARY:Cancer Awareness Ladies Golf Scramble & Raffle at Stalker Lake
DESCRIPTION:We are having our third annual Cancer Awareness Ladies Golf Scramble on July 20th. All money raised is donated to Lake Region Cancer Center in Fergus Falls. \n\nWe are following the golf scramble with a meat and gift card raffle starting at 5:00. The Underwood Lions will also be providing horse racing games at this time.
X-ALT-DESC;FMTTYPE=text/html:<span style="color: rgb(75\, 79\, 86)\; font-family: helvetica\, arial\, sans-serif\; font-size: 14px\; line-height: 18.76px\;">We are having our third annual Cancer Awareness Ladies Golf Scramble on July 20th. All money raised is donated to Lake Region Cancer Center in Fergus Falls.&nbsp\;</span><br style="color: rgb(75\, 79\, 86)\; font-family: helvetica\, arial\, sans-serif\; font-size: 14px\; line-height: 18.76px\;" />\n<span style="color: rgb(75\, 79\, 86)\; font-family: helvetica\, arial\, sans-serif\; font-size: 14px\; line-height: 18.76px\;">We are following the golf scramble with a meat and gift card raffle starting at 5:00. The Underwood Lions will also be providing horse racing games at this time.</span>
LOCATION:Stalker Lake Golf Course Bar & Grill 15786 Golf Course Rd. Dalton\, MN
UID:e.314.32944
SEQUENCE:3
DTSTAMP:20260425T112425Z
URL:https://business.fergusfalls.com/events/details/cancer-awareness-ladies-golf-scramble-raffle-at-stalker-lake-07-20-2016-32944
END:VEVENT

END:VCALENDAR
