BEGIN:VCALENDAR
VERSION:2.0
PRODID:-//ChamberMaster//Event Calendar 2.0//EN
METHOD:PUBLISH
X-PUBLISHED-TTL:P3D
REFRESH-INTERVAL:P3D
CALSCALE:GREGORIAN
BEGIN:VEVENT
DTSTART:20200214T230000Z
DTEND:20200215T030000Z
X-MICROSOFT-CDO-ALLDAYEVENT:FALSE
SUMMARY:Candlelight Valentine's Dinner
DESCRIPTION:Z103 Bar & Grill hosts a Candlelight Dinner in The Joseph Whitford Room\n\nSeatings at 5:00 & 7:30pm
X-ALT-DESC;FMTTYPE=text/html:Z103 Bar &amp\; Grill hosts a Candlelight Dinner in The Joseph Whitford Room<br />\nSeatings at 5:00 &amp\; 7:30pm
LOCATION:Z103 Bar & Grill Bigwood Event Center Fergus Falls\, MN
UID:e.314.56198
SEQUENCE:3
DTSTAMP:20260422T142508Z
URL:https://business.fergusfalls.com/events/details/candlelight-valentine-s-dinner-56198
END:VEVENT

END:VCALENDAR
