BEGIN:VCALENDAR
VERSION:2.0
PRODID:-//ChamberMaster//Event Calendar 2.0//EN
METHOD:PUBLISH
X-PUBLISHED-TTL:P3D
REFRESH-INTERVAL:P3D
CALSCALE:GREGORIAN
BEGIN:VEVENT
DTSTART:20160712T170000Z
DTEND:20160712T180000Z
X-MICROSOFT-CDO-ALLDAYEVENT:FALSE
SUMMARY:Carlisle Band Concert/Lunch - Courthouse Lawn
DESCRIPTION:ANNUAL COURTHOUSE LUNCH/BAND CONCERT Join the Otter Tail County Historical Society for the annual Courthouse Lunch/Band Concert on Tuesday\, July12\, noon\, on the front lawn of the historic courthouse on Junius Ave. Featuring Minnesota's second oldest community band\, the Carlisle Band\, the courthouse concert is a lunch time party. A chance to enjoy the precious days of summer in a relaxed old-fashioned atmosphere. Coupled with a homemade lunch from the Carlisle French 4-H it is a perfect way to spend a weekday lunch. Even though he is not as spry as he once was\, community historian\, George Myers\, will be seen tapping his toes while regaling enthralled listeners with infamous stories about his Navy days. It is not to be missed. For more information call 218-736-6038
X-ALT-DESC;FMTTYPE=text/html:<span style="color: rgb(0\, 0\, 0)\; font-family: Arial\, sans-serif\; font-size: small\; line-height: 18.2px\; white-space: pre-wrap\;">ANNUAL COURTHOUSE LUNCH/BAND CONCERT Join the Otter Tail County Historical Society for the annual Courthouse Lunch/Band Concert on Tuesday\, July12\, noon\, on the front lawn of the historic courthouse on Junius Ave. Featuring Minnesota&#39\;s second oldest community band\, the Carlisle Band\, the courthouse concert is a lunch time party. A chance to enjoy the precious days of summer in a relaxed old-fashioned atmosphere. Coupled with a homemade lunch from the Carlisle French 4-H it is a perfect way to spend a weekday lunch. Even though he is not as spry as he once was\, community historian\, George Myers\, will be seen tapping his toes while regaling enthralled listeners with infamous stories about his Navy days. It is not to be missed. For more information call 218-736-6038</span>
LOCATION:Junius Avenue\, Fergus Falls\, MN
UID:e.314.32899
SEQUENCE:3
DTSTAMP:20260425T112142Z
URL:https://business.fergusfalls.com/events/details/carlisle-band-concert-lunch-courthouse-lawn-07-12-2016-32899
END:VEVENT

END:VCALENDAR
