BEGIN:VCALENDAR
VERSION:2.0
PRODID:-//ChamberMaster//Event Calendar 2.0//EN
METHOD:PUBLISH
X-PUBLISHED-TTL:P3D
REFRESH-INTERVAL:P3D
CALSCALE:GREGORIAN
BEGIN:VEVENT
DTSTART:20160409T130000Z
DTEND:20160410T030000Z
X-MICROSOFT-CDO-ALLDAYEVENT:FALSE
SUMMARY:Cartwheel Event
DESCRIPTION:Cartwheel Deal: 15% OFF Women's Apparel\, Swim and Outerwear\n\n(Limit 4 items per guest\, no Clearance)
X-ALT-DESC;FMTTYPE=text/html:Cartwheel Deal: 15% OFF Women&#39\;s Apparel\, Swim and Outerwear<br />\n(Limit 4 items per guest\, no Clearance)
LOCATION:Target Fergus Falls
UID:e.314.32560
SEQUENCE:3
DTSTAMP:20260425T162906Z
URL:https://business.fergusfalls.com/events/details/cartwheel-event-04-09-2016-32560
END:VEVENT

END:VCALENDAR
