BEGIN:VCALENDAR
VERSION:2.0
PRODID:-//ChamberMaster//Event Calendar 2.0//EN
METHOD:PUBLISH
X-PUBLISHED-TTL:P3D
REFRESH-INTERVAL:P3D
CALSCALE:GREGORIAN
BEGIN:VEVENT
DTSTART;VALUE=DATE:20200214
DTEND;VALUE=DATE:20200221
TRANSP:TRANSPARENT
X-MICROSOFT-CDO-ALLDAYEVENT:TRUE
SUMMARY:CEC Westridge Theatre
DESCRIPTION:Showtimes from Friday February 14 to Thursday February 20\n\n1917(R)\n\nDolittle(PG)\n\nDownhill(R)\n\nHarley Quinn: Birds of Prey(R)\n\nSonic The Hedgehog(PG)\n\nThe Call of The Wild(PG)
X-ALT-DESC;FMTTYPE=text/html:<div id="stDate"><span style="font-size: 14px\;"><strong>Showtimes from Friday February 14 to Thursday February 20</strong></span></div>\n\n<h2 class="movielist"><span style="font-size: 14px\;"><a href="http://www.tributemovies.com/movie/Minnesota/Fergus+Falls/CEC+-+Westridge+Theatre/1917/143834/" title="1917 synopsis"><font color="#0066cc">1917</font></a><small>(R)</small></span></h2>\n\n<h2 class="movielist"><span style="font-size: 14px\;"><a href="http://www.tributemovies.com/movie/Minnesota/Fergus+Falls/CEC+-+Westridge+Theatre/Dolittle/135771/" title="Dolittle synopsis"><font color="#0066cc">Dolittle</font></a><small>(PG)</small></span></h2>\n\n<h2 class="movielist"><span style="font-size: 14px\;"><a href="http://www.tributemovies.com/movie/Minnesota/Fergus+Falls/CEC+-+Westridge+Theatre/Downhill/148975/" title="Downhill synopsis"><font color="#0066cc">Downhill</font></a><small>(R)</small></span></h2>\n\n<h2 class="movielist"><span style="font-size: 14px\;"><a href="http://www.tributemovies.com/movie/Minnesota/Fergus+Falls/CEC+-+Westridge+Theatre/Harley+Quinn%3A+Birds+of+Prey/139506/" title="Harley Quinn: Birds of Prey synopsis"><font color="#0066cc">Harley Quinn: Birds of Prey</font></a><small>(R)</small></span></h2>\n\n<h2 class="movielist"><span style="font-size: 14px\;"><a href="http://www.tributemovies.com/movie/Minnesota/Fergus+Falls/CEC+-+Westridge+Theatre/Sonic+The+Hedgehog/137928/" title="Sonic The Hedgehog synopsis"><font color="#0066cc">Sonic The Hedgehog</font></a><small>(PG)</small></span></h2>\n\n<h2 class="movielist"><span style="font-size: 14px\;"><a href="http://www.tributemovies.com/movie/Minnesota/Fergus+Falls/CEC+-+Westridge+Theatre/The+Call+of+The+Wild/54176/" title="The Call of The Wild synopsis"><font color="#0066cc">The Call of The Wild</font></a><small>(PG)</small></span></h2>\n
LOCATION:2001 W. Lincoln Ave Fergus Falls\, Minnesota 56537 (218) 736-1206
UID:e.314.56279
SEQUENCE:3
DTSTAMP:20260422T155758Z
URL:https://business.fergusfalls.com/events/details/cec-westridge-theatre-56279
END:VEVENT

END:VCALENDAR
