BEGIN:VCALENDAR
VERSION:2.0
PRODID:-//ChamberMaster//Event Calendar 2.0//EN
METHOD:PUBLISH
X-PUBLISHED-TTL:P3D
REFRESH-INTERVAL:P3D
CALSCALE:GREGORIAN
BEGIN:VEVENT
DTSTART:20191009T180000Z
DTEND:20191009T190000Z
X-MICROSOFT-CDO-ALLDAYEVENT:FALSE
SUMMARY:Celebrate!
DESCRIPTION:Celebrate! \n\nConcert at First Lutheran Church
X-ALT-DESC;FMTTYPE=text/html:Celebrate!&nbsp\;<br />\nConcert at First Lutheran Church<br />\n<br />\n&nbsp\;
LOCATION:First Lutheran Church 402 S Court St. Fergus Falls MN 56537
UID:e.314.54056
SEQUENCE:3
DTSTAMP:20260422T203627Z
URL:https://business.fergusfalls.com/events/details/celebrate-54056
END:VEVENT

END:VCALENDAR
